Workbook

Sheet Bendra
A1: LIETUVOS PROBACIJOS TARNYBOS
A4: DARBO SU SMURTAUTOJAIS ARTIMOJE APLINKOJE, ESANČIAIS LIETUVOS PROBACIJOS TARNYBOS PRIEŽIŪROJE, ŠIAULIŲ RAJONO SAVIVALDYBĖS TERITORIJOJE GVENANČIŲ ASMENŲ, STATISTINĖ ATASKAITA
A7: 2026-07- Nr. VD-
A9: 2026 m. sausio - birželio mėnesių duomenys
A11: Eil. Nr. | B11: Duomenų pavadinimas | C11: Asmenų skaičius | E11: Asmenys
E12: kuriems paskirta viešųjų darbų bausmė (BK 46 str.) | G12: kuriems paskirta laisvės apribojimo bausmė (BK 48 str.) | I12: kuriems paskirtos baudžiamojo poveikio priemonės (BK 69, 70, 72¹, 72² str.) | K12: kuriems skirtos auklėjamojo poveikio priemonės (BK 82 str.) | M12: kuriems bausmės vykdymas atidėtas (BK 75 str.) | O12: kuriems bausmės vykdymas atidėtas (BK 92 str.) | Q12: kurie lygtinai paleisti iš pataisos įstaigų (BVK 82 str.)
C19: iš viso | D19: moterų | E19: iš viso | F19: moterų | G19: iš viso | H19: moterų | I19: iš viso | J19: moterų | K19: iš viso | L19: moterų | M19: iš viso | N19: moterų | O19: iš viso | P19: moterų | Q19: iš viso | R19: moterų
A20: 1 | B20: 2 | C20: 3 | D20: 4 | E20: 5 | F20: 6 | G20: 7 | H20: 8 | I20: 9 | J20: 10 | K20: 11 | L20: 12 | M20: 13 | N20: 14 | O20: 15 | P20: 16 | Q20: 17 | R20: 18
A21: 1 | B21: Asmenų¹, įtrauktų į duomenų registrus, sausio 1 d. skaičius, iš jų | C21: =SUM(Ričardas!C21,Karolina!C21,Rasa!C21,'7'!C21,Jolanta!C21,'1'!C21,'2'!C21,'3'!C21,'4'!C21,'5'!C21,'6'!C21,Sheet13!C21,Sheet14!C21,Sheet15!C21,Sheet16!C21,Sheet17!C21,Sheet18!C21,Sheet19!C21,Sheet20!C21) -> 49 | D21: =SUM(Ričardas!D21,Karolina!D21,Rasa!D21,'7'!D21,Jolanta!D21,'1'!D21,'2'!D21,'3'!D21,'4'!D21,'5'!D21,'6'!D21,Sheet13!D21,Sheet14!D21,Sheet15!D21,Sheet16!D21,Sheet17!D21,Sheet18!D21,Sheet19!D21,Sheet20!D21) -> 12 | E21: =SUM(Ričardas!E21,Karolina!E21,Rasa!E21,'7'!E21,Jolanta!E21,'1'!E21,'2'!E21,'3'!E21,'4'!E21,'5'!E21,'6'!E21,Sheet13!E21,Sheet14!E21,Sheet15!E21,Sheet16!E21,Sheet17!E21,Sheet18!E21,Sheet19!E21,Sheet20!E21) -> 3 | F21: =SUM(Ričardas!F21,Karolina!F21,Rasa!F21,'7'!F21,Jolanta!F21,'1'!F21,'2'!F21,'3'!F21,'4'!F21,'5'!F21,'6'!F21,Sheet13!F21,Sheet14!F21,Sheet15!F21,Sheet16!F21,Sheet17!F21,Sheet18!F21,Sheet19!F21,Sheet20!F21) -> 0 | G21: =SUM(Ričardas!G21,Karolina!G21,Rasa!G21,'7'!G21,Jolanta!G21,'1'!G21,'2'!G21,'3'!G21,'4'!G21,'5'!G21,'6'!G21,Sheet13!G21,Sheet14!G21,Sheet15!G21,Sheet16!G21,Sheet17!G21,Sheet18!G21,Sheet19!G21,Sheet20!G21) -> 3 | H21: =SUM(Ričardas!H21,Karolina!H21,Rasa!H21,'7'!H21,Jolanta!H21,'1'!H21,'2'!H21,'3'!H21,'4'!H21,'5'!H21,'6'!H21,Sheet13!H21,Sheet14!H21,Sheet15!H21,Sheet16!H21,Sheet17!H21,Sheet18!H21,Sheet19!H21,Sheet20!H21) -> 0 | I21: =SUM(Ričardas!I21,Karolina!I21,Rasa!I21,'7'!I21,Jolanta!I21,'1'!I21,'2'!I21,'3'!I21,'4'!I21,'5'!I21,'6'!I21,Sheet13!I21,Sheet14!I21,Sheet15!I21,Sheet16!I21,Sheet17!I21,Sheet18!I21,Sheet19!I21,Sheet20!I21) -> 35 | J21: =SUM(Ričardas!J21,Karolina!J21,Rasa!J21,'7'!J21,Jolanta!J21,'1'!J21,'2'!J21,'3'!J21,'4'!J21,'5'!J21,'6'!J21,Sheet13!J21,Sheet14!J21,Sheet15!J21,Sheet16!J21,Sheet17!J21,Sheet18!J21,Sheet19!J21,Sheet20!J21) -> 11 | ... R21: =SUM(Ričardas!R21,Karolina!R21,Rasa!R21,'7'!R21,Jolanta!R21,'1'!R21,'2'!R21,'3'!R21,'4'!R21,'5'!R21,'6'!R21,Sheet13!R21,Sheet14!R21,Sheet15!R21,Sheet16!R21,Sheet17!R21,Sheet18!R21,Sheet19!R21,Sheet20!R21) -> 0
A22: 1.1 | B22: iki 18 metų | C22: =SUM(Ričardas!C22,Karolina!C22,Rasa!C22,'7'!C22,Jolanta!C22,'1'!C22,'2'!C22,'3'!C22,'4'!C22,'5'!C22,'6'!C22,Sheet13!C22,Sheet14!C22,Sheet15!C22,Sheet16!C22,Sheet17!C22,Sheet18!C22,Sheet19!C22,Sheet20!C22) -> 0 | D22: =SUM(Ričardas!D22,Karolina!D22,Rasa!D22,'7'!D22,Jolanta!D22,'1'!D22,'2'!D22,'3'!D22,'4'!D22,'5'!D22,'6'!D22,Sheet13!D22,Sheet14!D22,Sheet15!D22,Sheet16!D22,Sheet17!D22,Sheet18!D22,Sheet19!D22,Sheet20!D22) -> 0 | E22: =SUM(Ričardas!E22,Karolina!E22,Rasa!E22,'7'!E22,Jolanta!E22,'1'!E22,'2'!E22,'3'!E22,'4'!E22,'5'!E22,'6'!E22,Sheet13!E22,Sheet14!E22,Sheet15!E22,Sheet16!E22,Sheet17!E22,Sheet18!E22,Sheet19!E22,Sheet20!E22) -> 0 | F22: =SUM(Ričardas!F22,Karolina!F22,Rasa!F22,'7'!F22,Jolanta!F22,'1'!F22,'2'!F22,'3'!F22,'4'!F22,'5'!F22,'6'!F22,Sheet13!F22,Sheet14!F22,Sheet15!F22,Sheet16!F22,Sheet17!F22,Sheet18!F22,Sheet19!F22,Sheet20!F22) -> 0 | G22: =SUM(Ričardas!G22,Karolina!G22,Rasa!G22,'7'!G22,Jolanta!G22,'1'!G22,'2'!G22,'3'!G22,'4'!G22,'5'!G22,'6'!G22,Sheet13!G22,Sheet14!G22,Sheet15!G22,Sheet16!G22,Sheet17!G22,Sheet18!G22,Sheet19!G22,Sheet20!G22) -> 0 | H22: =SUM(Ričardas!H22,Karolina!H22,Rasa!H22,'7'!H22,Jolanta!H22,'1'!H22,'2'!H22,'3'!H22,'4'!H22,'5'!H22,'6'!H22,Sheet13!H22,Sheet14!H22,Sheet15!H22,Sheet16!H22,Sheet17!H22,Sheet18!H22,Sheet19!H22,Sheet20!H22) -> 0 | I22: =SUM(Ričardas!I22,Karolina!I22,Rasa!I22,'7'!I22,Jolanta!I22,'1'!I22,'2'!I22,'3'!I22,'4'!I22,'5'!I22,'6'!I22,Sheet13!I22,Sheet14!I22,Sheet15!I22,Sheet16!I22,Sheet17!I22,Sheet18!I22,Sheet19!I22,Sheet20!I22) -> 0 | J22: =SUM(Ričardas!J22,Karolina!J22,Rasa!J22,'7'!J22,Jolanta!J22,'1'!J22,'2'!J22,'3'!J22,'4'!J22,'5'!J22,'6'!J22,Sheet13!J22,Sheet14!J22,Sheet15!J22,Sheet16!J22,Sheet17!J22,Sheet18!J22,Sheet19!J22,Sheet20!J22) -> 0 | ... R22: =SUM(Ričardas!R22,Karolina!R22,Rasa!R22,'7'!R22,Jolanta!R22,'1'!R22,'2'!R22,'3'!R22,'4'!R22,'5'!R22,'6'!R22,Sheet13!R22,Sheet14!R22,Sheet15!R22,Sheet16!R22,Sheet17!R22,Sheet18!R22,Sheet19!R22,Sheet20!R22) -> 0
A23: 2 | B23: Asmenų, įtrauktų į duomenų registrus per ataskaitinį laikotarpį, skaičius, iš jų | C23: =SUM(Ričardas!C23,Karolina!C23,Rasa!C23,'7'!C23,Jolanta!C23,'1'!C23,'2'!C23,'3'!C23,'4'!C23,'5'!C23,'6'!C23,Sheet13!C23,Sheet14!C23,Sheet15!C23,Sheet16!C23,Sheet17!C23,Sheet18!C23,Sheet19!C23,Sheet20!C23) -> 51 | D23: =SUM(Ričardas!D23,Karolina!D23,Rasa!D23,'7'!D23,Jolanta!D23,'1'!D23,'2'!D23,'3'!D23,'4'!D23,'5'!D23,'6'!D23,Sheet13!D23,Sheet14!D23,Sheet15!D23,Sheet16!D23,Sheet17!D23,Sheet18!D23,Sheet19!D23,Sheet20!D23) -> 7 | E23: =SUM(Ričardas!E23,Karolina!E23,Rasa!E23,'7'!E23,Jolanta!E23,'1'!E23,'2'!E23,'3'!E23,'4'!E23,'5'!E23,'6'!E23,Sheet13!E23,Sheet14!E23,Sheet15!E23,Sheet16!E23,Sheet17!E23,Sheet18!E23,Sheet19!E23,Sheet20!E23) -> 4 | F23: =SUM(Ričardas!F23,Karolina!F23,Rasa!F23,'7'!F23,Jolanta!F23,'1'!F23,'2'!F23,'3'!F23,'4'!F23,'5'!F23,'6'!F23,Sheet13!F23,Sheet14!F23,Sheet15!F23,Sheet16!F23,Sheet17!F23,Sheet18!F23,Sheet19!F23,Sheet20!F23) -> 1 | G23: =SUM(Ričardas!G23,Karolina!G23,Rasa!G23,'7'!G23,Jolanta!G23,'1'!G23,'2'!G23,'3'!G23,'4'!G23,'5'!G23,'6'!G23,Sheet13!G23,Sheet14!G23,Sheet15!G23,Sheet16!G23,Sheet17!G23,Sheet18!G23,Sheet19!G23,Sheet20!G23) -> 11 | H23: =SUM(Ričardas!H23,Karolina!H23,Rasa!H23,'7'!H23,Jolanta!H23,'1'!H23,'2'!H23,'3'!H23,'4'!H23,'5'!H23,'6'!H23,Sheet13!H23,Sheet14!H23,Sheet15!H23,Sheet16!H23,Sheet17!H23,Sheet18!H23,Sheet19!H23,Sheet20!H23) -> 4 | I23: =SUM(Ričardas!I23,Karolina!I23,Rasa!I23,'7'!I23,Jolanta!I23,'1'!I23,'2'!I23,'3'!I23,'4'!I23,'5'!I23,'6'!I23,Sheet13!I23,Sheet14!I23,Sheet15!I23,Sheet16!I23,Sheet17!I23,Sheet18!I23,Sheet19!I23,Sheet20!I23) -> 30 | J23: =SUM(Ričardas!J23,Karolina!J23,Rasa!J23,'7'!J23,Jolanta!J23,'1'!J23,'2'!J23,'3'!J23,'4'!J23,'5'!J23,'6'!J23,Sheet13!J23,Sheet14!J23,Sheet15!J23,Sheet16!J23,Sheet17!J23,Sheet18!J23,Sheet19!J23,Sheet20!J23) -> 2 | ... R23: =SUM(Ričardas!R23,Karolina!R23,Rasa!R23,'7'!R23,Jolanta!R23,'1'!R23,'2'!R23,'3'!R23,'4'!R23,'5'!R23,'6'!R23,Sheet13!R23,Sheet14!R23,Sheet15!R23,Sheet16!R23,Sheet17!R23,Sheet18!R23,Sheet19!R23,Sheet20!R23) -> 0
A24: 2.1 | B24: iki 18 metų | C24: =SUM(Ričardas!C24,Karolina!C24,Rasa!C24,'7'!C24,Jolanta!C24,'1'!C24,'2'!C24,'3'!C24,'4'!C24,'5'!C24,'6'!C24,Sheet13!C24,Sheet14!C24,Sheet15!C24,Sheet16!C24,Sheet17!C24,Sheet18!C24,Sheet19!C24,Sheet20!C24) -> 0 | D24: =SUM(Ričardas!D24,Karolina!D24,Rasa!D24,'7'!D24,Jolanta!D24,'1'!D24,'2'!D24,'3'!D24,'4'!D24,'5'!D24,'6'!D24,Sheet13!D24,Sheet14!D24,Sheet15!D24,Sheet16!D24,Sheet17!D24,Sheet18!D24,Sheet19!D24,Sheet20!D24) -> 0 | E24: =SUM(Ričardas!E24,Karolina!E24,Rasa!E24,'7'!E24,Jolanta!E24,'1'!E24,'2'!E24,'3'!E24,'4'!E24,'5'!E24,'6'!E24,Sheet13!E24,Sheet14!E24,Sheet15!E24,Sheet16!E24,Sheet17!E24,Sheet18!E24,Sheet19!E24,Sheet20!E24) -> 0 | F24: =SUM(Ričardas!F24,Karolina!F24,Rasa!F24,'7'!F24,Jolanta!F24,'1'!F24,'2'!F24,'3'!F24,'4'!F24,'5'!F24,'6'!F24,Sheet13!F24,Sheet14!F24,Sheet15!F24,Sheet16!F24,Sheet17!F24,Sheet18!F24,Sheet19!F24,Sheet20!F24) -> 0 | G24: =SUM(Ričardas!G24,Karolina!G24,Rasa!G24,'7'!G24,Jolanta!G24,'1'!G24,'2'!G24,'3'!G24,'4'!G24,'5'!G24,'6'!G24,Sheet13!G24,Sheet14!G24,Sheet15!G24,Sheet16!G24,Sheet17!G24,Sheet18!G24,Sheet19!G24,Sheet20!G24) -> 0 | H24: =SUM(Ričardas!H24,Karolina!H24,Rasa!H24,'7'!H24,Jolanta!H24,'1'!H24,'2'!H24,'3'!H24,'4'!H24,'5'!H24,'6'!H24,Sheet13!H24,Sheet14!H24,Sheet15!H24,Sheet16!H24,Sheet17!H24,Sheet18!H24,Sheet19!H24,Sheet20!H24) -> 0 | I24: =SUM(Ričardas!I24,Karolina!I24,Rasa!I24,'7'!I24,Jolanta!I24,'1'!I24,'2'!I24,'3'!I24,'4'!I24,'5'!I24,'6'!I24,Sheet13!I24,Sheet14!I24,Sheet15!I24,Sheet16!I24,Sheet17!I24,Sheet18!I24,Sheet19!I24,Sheet20!I24) -> 0 | J24: =SUM(Ričardas!J24,Karolina!J24,Rasa!J24,'7'!J24,Jolanta!J24,'1'!J24,'2'!J24,'3'!J24,'4'!J24,'5'!J24,'6'!J24,Sheet13!J24,Sheet14!J24,Sheet15!J24,Sheet16!J24,Sheet17!J24,Sheet18!J24,Sheet19!J24,Sheet20!J24) -> 0 | ... R24: =SUM(Ričardas!R24,Karolina!R24,Rasa!R24,'7'!R24,Jolanta!R24,'1'!R24,'2'!R24,'3'!R24,'4'!R24,'5'!R24,'6'!R24,Sheet13!R24,Sheet14!R24,Sheet15!R24,Sheet16!R24,Sheet17!R24,Sheet18!R24,Sheet19!R24,Sheet20!R24) -> 0
A25: 3 | B25: Asmenų, kurie per ataskaitinį laikotarpį buvo įtraukti į duomenų registrus, skaičius (1+2), iš jų | C25: =SUM(Ričardas!C25,Karolina!C25,Rasa!C25,'7'!C25,Jolanta!C25,'1'!C25,'2'!C25,'3'!C25,'4'!C25,'5'!C25,'6'!C25,Sheet13!C25,Sheet14!C25,Sheet15!C25,Sheet16!C25,Sheet17!C25,Sheet18!C25,Sheet19!C25,Sheet20!C25) -> 100 | D25: =SUM(Ričardas!D25,Karolina!D25,Rasa!D25,'7'!D25,Jolanta!D25,'1'!D25,'2'!D25,'3'!D25,'4'!D25,'5'!D25,'6'!D25,Sheet13!D25,Sheet14!D25,Sheet15!D25,Sheet16!D25,Sheet17!D25,Sheet18!D25,Sheet19!D25,Sheet20!D25) -> 19 | E25: =SUM(Ričardas!E25,Karolina!E25,Rasa!E25,'7'!E25,Jolanta!E25,'1'!E25,'2'!E25,'3'!E25,'4'!E25,'5'!E25,'6'!E25,Sheet13!E25,Sheet14!E25,Sheet15!E25,Sheet16!E25,Sheet17!E25,Sheet18!E25,Sheet19!E25,Sheet20!E25) -> 7 | F25: =SUM(Ričardas!F25,Karolina!F25,Rasa!F25,'7'!F25,Jolanta!F25,'1'!F25,'2'!F25,'3'!F25,'4'!F25,'5'!F25,'6'!F25,Sheet13!F25,Sheet14!F25,Sheet15!F25,Sheet16!F25,Sheet17!F25,Sheet18!F25,Sheet19!F25,Sheet20!F25) -> 1 | G25: =SUM(Ričardas!G25,Karolina!G25,Rasa!G25,'7'!G25,Jolanta!G25,'1'!G25,'2'!G25,'3'!G25,'4'!G25,'5'!G25,'6'!G25,Sheet13!G25,Sheet14!G25,Sheet15!G25,Sheet16!G25,Sheet17!G25,Sheet18!G25,Sheet19!G25,Sheet20!G25) -> 14 | H25: =SUM(Ričardas!H25,Karolina!H25,Rasa!H25,'7'!H25,Jolanta!H25,'1'!H25,'2'!H25,'3'!H25,'4'!H25,'5'!H25,'6'!H25,Sheet13!H25,Sheet14!H25,Sheet15!H25,Sheet16!H25,Sheet17!H25,Sheet18!H25,Sheet19!H25,Sheet20!H25) -> 4 | I25: =SUM(Ričardas!I25,Karolina!I25,Rasa!I25,'7'!I25,Jolanta!I25,'1'!I25,'2'!I25,'3'!I25,'4'!I25,'5'!I25,'6'!I25,Sheet13!I25,Sheet14!I25,Sheet15!I25,Sheet16!I25,Sheet17!I25,Sheet18!I25,Sheet19!I25,Sheet20!I25) -> 65 | J25: =SUM(Ričardas!J25,Karolina!J25,Rasa!J25,'7'!J25,Jolanta!J25,'1'!J25,'2'!J25,'3'!J25,'4'!J25,'5'!J25,'6'!J25,Sheet13!J25,Sheet14!J25,Sheet15!J25,Sheet16!J25,Sheet17!J25,Sheet18!J25,Sheet19!J25,Sheet20!J25) -> 13 | ... R25: =SUM(Ričardas!R25,Karolina!R25,Rasa!R25,'7'!R25,Jolanta!R25,'1'!R25,'2'!R25,'3'!R25,'4'!R25,'5'!R25,'6'!R25,Sheet13!R25,Sheet14!R25,Sheet15!R25,Sheet16!R25,Sheet17!R25,Sheet18!R25,Sheet19!R25,Sheet20!R25) -> 0
A26: 3.1 | B26: iki 18 metų | C26: =SUM(Ričardas!C26,Karolina!C26,Rasa!C26,'7'!C26,Jolanta!C26,'1'!C26,'2'!C26,'3'!C26,'4'!C26,'5'!C26,'6'!C26,Sheet13!C26,Sheet14!C26,Sheet15!C26,Sheet16!C26,Sheet17!C26,Sheet18!C26,Sheet19!C26,Sheet20!C26) -> 0 | D26: =SUM(Ričardas!D26,Karolina!D26,Rasa!D26,'7'!D26,Jolanta!D26,'1'!D26,'2'!D26,'3'!D26,'4'!D26,'5'!D26,'6'!D26,Sheet13!D26,Sheet14!D26,Sheet15!D26,Sheet16!D26,Sheet17!D26,Sheet18!D26,Sheet19!D26,Sheet20!D26) -> 0 | E26: =SUM(Ričardas!E26,Karolina!E26,Rasa!E26,'7'!E26,Jolanta!E26,'1'!E26,'2'!E26,'3'!E26,'4'!E26,'5'!E26,'6'!E26,Sheet13!E26,Sheet14!E26,Sheet15!E26,Sheet16!E26,Sheet17!E26,Sheet18!E26,Sheet19!E26,Sheet20!E26) -> 0 | F26: =SUM(Ričardas!F26,Karolina!F26,Rasa!F26,'7'!F26,Jolanta!F26,'1'!F26,'2'!F26,'3'!F26,'4'!F26,'5'!F26,'6'!F26,Sheet13!F26,Sheet14!F26,Sheet15!F26,Sheet16!F26,Sheet17!F26,Sheet18!F26,Sheet19!F26,Sheet20!F26) -> 0 | G26: =SUM(Ričardas!G26,Karolina!G26,Rasa!G26,'7'!G26,Jolanta!G26,'1'!G26,'2'!G26,'3'!G26,'4'!G26,'5'!G26,'6'!G26,Sheet13!G26,Sheet14!G26,Sheet15!G26,Sheet16!G26,Sheet17!G26,Sheet18!G26,Sheet19!G26,Sheet20!G26) -> 0 | H26: =SUM(Ričardas!H26,Karolina!H26,Rasa!H26,'7'!H26,Jolanta!H26,'1'!H26,'2'!H26,'3'!H26,'4'!H26,'5'!H26,'6'!H26,Sheet13!H26,Sheet14!H26,Sheet15!H26,Sheet16!H26,Sheet17!H26,Sheet18!H26,Sheet19!H26,Sheet20!H26) -> 0 | I26: =SUM(Ričardas!I26,Karolina!I26,Rasa!I26,'7'!I26,Jolanta!I26,'1'!I26,'2'!I26,'3'!I26,'4'!I26,'5'!I26,'6'!I26,Sheet13!I26,Sheet14!I26,Sheet15!I26,Sheet16!I26,Sheet17!I26,Sheet18!I26,Sheet19!I26,Sheet20!I26) -> 0 | J26: =SUM(Ričardas!J26,Karolina!J26,Rasa!J26,'7'!J26,Jolanta!J26,'1'!J26,'2'!J26,'3'!J26,'4'!J26,'5'!J26,'6'!J26,Sheet13!J26,Sheet14!J26,Sheet15!J26,Sheet16!J26,Sheet17!J26,Sheet18!J26,Sheet19!J26,Sheet20!J26) -> 0 | ... R26: =SUM(Ričardas!R26,Karolina!R26,Rasa!R26,'7'!R26,Jolanta!R26,'1'!R26,'2'!R26,'3'!R26,'4'!R26,'5'!R26,'6'!R26,Sheet13!R26,Sheet14!R26,Sheet15!R26,Sheet16!R26,Sheet17!R26,Sheet18!R26,Sheet19!R26,Sheet20!R26) -> 0
A27: 4 | B27: Asmenų, kurie per ataskaitinį laikotarpį buvo išregistruoti iš duomenų registrų, skaičius, iš jų | C27: =SUM(Ričardas!C27,Karolina!C27,Rasa!C27,'7'!C27,Jolanta!C27,'1'!C27,'2'!C27,'3'!C27,'4'!C27,'5'!C27,'6'!C27,Sheet13!C27,Sheet14!C27,Sheet15!C27,Sheet16!C27,Sheet17!C27,Sheet18!C27,Sheet19!C27,Sheet20!C27) -> 38 | D27: =SUM(Ričardas!D27,Karolina!D27,Rasa!D27,'7'!D27,Jolanta!D27,'1'!D27,'2'!D27,'3'!D27,'4'!D27,'5'!D27,'6'!D27,Sheet13!D27,Sheet14!D27,Sheet15!D27,Sheet16!D27,Sheet17!D27,Sheet18!D27,Sheet19!D27,Sheet20!D27) -> 13 | E27: =SUM(Ričardas!E27,Karolina!E27,Rasa!E27,'7'!E27,Jolanta!E27,'1'!E27,'2'!E27,'3'!E27,'4'!E27,'5'!E27,'6'!E27,Sheet13!E27,Sheet14!E27,Sheet15!E27,Sheet16!E27,Sheet17!E27,Sheet18!E27,Sheet19!E27,Sheet20!E27) -> 5 | F27: =SUM(Ričardas!F27,Karolina!F27,Rasa!F27,'7'!F27,Jolanta!F27,'1'!F27,'2'!F27,'3'!F27,'4'!F27,'5'!F27,'6'!F27,Sheet13!F27,Sheet14!F27,Sheet15!F27,Sheet16!F27,Sheet17!F27,Sheet18!F27,Sheet19!F27,Sheet20!F27) -> 1 | G27: =SUM(Ričardas!G27,Karolina!G27,Rasa!G27,'7'!G27,Jolanta!G27,'1'!G27,'2'!G27,'3'!G27,'4'!G27,'5'!G27,'6'!G27,Sheet13!G27,Sheet14!G27,Sheet15!G27,Sheet16!G27,Sheet17!G27,Sheet18!G27,Sheet19!G27,Sheet20!G27) -> 5 | H27: =SUM(Ričardas!H27,Karolina!H27,Rasa!H27,'7'!H27,Jolanta!H27,'1'!H27,'2'!H27,'3'!H27,'4'!H27,'5'!H27,'6'!H27,Sheet13!H27,Sheet14!H27,Sheet15!H27,Sheet16!H27,Sheet17!H27,Sheet18!H27,Sheet19!H27,Sheet20!H27) -> 3 | I27: =SUM(Ričardas!I27,Karolina!I27,Rasa!I27,'7'!I27,Jolanta!I27,'1'!I27,'2'!I27,'3'!I27,'4'!I27,'5'!I27,'6'!I27,Sheet13!I27,Sheet14!I27,Sheet15!I27,Sheet16!I27,Sheet17!I27,Sheet18!I27,Sheet19!I27,Sheet20!I27) -> 26 | J27: =SUM(Ričardas!J27,Karolina!J27,Rasa!J27,'7'!J27,Jolanta!J27,'1'!J27,'2'!J27,'3'!J27,'4'!J27,'5'!J27,'6'!J27,Sheet13!J27,Sheet14!J27,Sheet15!J27,Sheet16!J27,Sheet17!J27,Sheet18!J27,Sheet19!J27,Sheet20!J27) -> 8 | ... R27: =SUM(Ričardas!R27,Karolina!R27,Rasa!R27,'7'!R27,Jolanta!R27,'1'!R27,'2'!R27,'3'!R27,'4'!R27,'5'!R27,'6'!R27,Sheet13!R27,Sheet14!R27,Sheet15!R27,Sheet16!R27,Sheet17!R27,Sheet18!R27,Sheet19!R27,Sheet20!R27) -> 0
A28: 4.1 | B28: iki 18 metų | C28: =SUM(Ričardas!C28,Karolina!C28,Rasa!C28,'7'!C28,Jolanta!C28,'1'!C28,'2'!C28,'3'!C28,'4'!C28,'5'!C28,'6'!C28,Sheet13!C28,Sheet14!C28,Sheet15!C28,Sheet16!C28,Sheet17!C28,Sheet18!C28,Sheet19!C28,Sheet20!C28) -> 0 | D28: =SUM(Ričardas!D28,Karolina!D28,Rasa!D28,'7'!D28,Jolanta!D28,'1'!D28,'2'!D28,'3'!D28,'4'!D28,'5'!D28,'6'!D28,Sheet13!D28,Sheet14!D28,Sheet15!D28,Sheet16!D28,Sheet17!D28,Sheet18!D28,Sheet19!D28,Sheet20!D28) -> 0 | E28: =SUM(Ričardas!E28,Karolina!E28,Rasa!E28,'7'!E28,Jolanta!E28,'1'!E28,'2'!E28,'3'!E28,'4'!E28,'5'!E28,'6'!E28,Sheet13!E28,Sheet14!E28,Sheet15!E28,Sheet16!E28,Sheet17!E28,Sheet18!E28,Sheet19!E28,Sheet20!E28) -> 0 | F28: =SUM(Ričardas!F28,Karolina!F28,Rasa!F28,'7'!F28,Jolanta!F28,'1'!F28,'2'!F28,'3'!F28,'4'!F28,'5'!F28,'6'!F28,Sheet13!F28,Sheet14!F28,Sheet15!F28,Sheet16!F28,Sheet17!F28,Sheet18!F28,Sheet19!F28,Sheet20!F28) -> 0 | G28: =SUM(Ričardas!G28,Karolina!G28,Rasa!G28,'7'!G28,Jolanta!G28,'1'!G28,'2'!G28,'3'!G28,'4'!G28,'5'!G28,'6'!G28,Sheet13!G28,Sheet14!G28,Sheet15!G28,Sheet16!G28,Sheet17!G28,Sheet18!G28,Sheet19!G28,Sheet20!G28) -> 0 | H28: =SUM(Ričardas!H28,Karolina!H28,Rasa!H28,'7'!H28,Jolanta!H28,'1'!H28,'2'!H28,'3'!H28,'4'!H28,'5'!H28,'6'!H28,Sheet13!H28,Sheet14!H28,Sheet15!H28,Sheet16!H28,Sheet17!H28,Sheet18!H28,Sheet19!H28,Sheet20!H28) -> 0 | I28: =SUM(Ričardas!I28,Karolina!I28,Rasa!I28,'7'!I28,Jolanta!I28,'1'!I28,'2'!I28,'3'!I28,'4'!I28,'5'!I28,'6'!I28,Sheet13!I28,Sheet14!I28,Sheet15!I28,Sheet16!I28,Sheet17!I28,Sheet18!I28,Sheet19!I28,Sheet20!I28) -> 0 | J28: =SUM(Ričardas!J28,Karolina!J28,Rasa!J28,'7'!J28,Jolanta!J28,'1'!J28,'2'!J28,'3'!J28,'4'!J28,'5'!J28,'6'!J28,Sheet13!J28,Sheet14!J28,Sheet15!J28,Sheet16!J28,Sheet17!J28,Sheet18!J28,Sheet19!J28,Sheet20!J28) -> 0 | ... R28: =SUM(Ričardas!R28,Karolina!R28,Rasa!R28,'7'!R28,Jolanta!R28,'1'!R28,'2'!R28,'3'!R28,'4'!R28,'5'!R28,'6'!R28,Sheet13!R28,Sheet14!R28,Sheet15!R28,Sheet16!R28,Sheet17!R28,Sheet18!R28,Sheet19!R28,Sheet20!R28) -> 0
A29: 5 | B29: Ataskaitos dieną į duomenų registrus įtrauktų asmenų skaičius(3-4), iš jų | C29: =SUM(Ričardas!C29,Karolina!C29,Rasa!C29,'7'!C29,Jolanta!C29,'1'!C29,'2'!C29,'3'!C29,'4'!C29,'5'!C29,'6'!C29,Sheet13!C29,Sheet14!C29,Sheet15!C29,Sheet16!C29,Sheet17!C29,Sheet18!C29,Sheet19!C29,Sheet20!C29) -> 62 | D29: =SUM(Ričardas!D29,Karolina!D29,Rasa!D29,'7'!D29,Jolanta!D29,'1'!D29,'2'!D29,'3'!D29,'4'!D29,'5'!D29,'6'!D29,Sheet13!D29,Sheet14!D29,Sheet15!D29,Sheet16!D29,Sheet17!D29,Sheet18!D29,Sheet19!D29,Sheet20!D29) -> 6 | E29: =SUM(Ričardas!E29,Karolina!E29,Rasa!E29,'7'!E29,Jolanta!E29,'1'!E29,'2'!E29,'3'!E29,'4'!E29,'5'!E29,'6'!E29,Sheet13!E29,Sheet14!E29,Sheet15!E29,Sheet16!E29,Sheet17!E29,Sheet18!E29,Sheet19!E29,Sheet20!E29) -> 2 | F29: =SUM(Ričardas!F29,Karolina!F29,Rasa!F29,'7'!F29,Jolanta!F29,'1'!F29,'2'!F29,'3'!F29,'4'!F29,'5'!F29,'6'!F29,Sheet13!F29,Sheet14!F29,Sheet15!F29,Sheet16!F29,Sheet17!F29,Sheet18!F29,Sheet19!F29,Sheet20!F29) -> 0 | G29: =SUM(Ričardas!G29,Karolina!G29,Rasa!G29,'7'!G29,Jolanta!G29,'1'!G29,'2'!G29,'3'!G29,'4'!G29,'5'!G29,'6'!G29,Sheet13!G29,Sheet14!G29,Sheet15!G29,Sheet16!G29,Sheet17!G29,Sheet18!G29,Sheet19!G29,Sheet20!G29) -> 9 | H29: =SUM(Ričardas!H29,Karolina!H29,Rasa!H29,'7'!H29,Jolanta!H29,'1'!H29,'2'!H29,'3'!H29,'4'!H29,'5'!H29,'6'!H29,Sheet13!H29,Sheet14!H29,Sheet15!H29,Sheet16!H29,Sheet17!H29,Sheet18!H29,Sheet19!H29,Sheet20!H29) -> 1 | I29: =SUM(Ričardas!I29,Karolina!I29,Rasa!I29,'7'!I29,Jolanta!I29,'1'!I29,'2'!I29,'3'!I29,'4'!I29,'5'!I29,'6'!I29,Sheet13!I29,Sheet14!I29,Sheet15!I29,Sheet16!I29,Sheet17!I29,Sheet18!I29,Sheet19!I29,Sheet20!I29) -> 39 | J29: =SUM(Ričardas!J29,Karolina!J29,Rasa!J29,'7'!J29,Jolanta!J29,'1'!J29,'2'!J29,'3'!J29,'4'!J29,'5'!J29,'6'!J29,Sheet13!J29,Sheet14!J29,Sheet15!J29,Sheet16!J29,Sheet17!J29,Sheet18!J29,Sheet19!J29,Sheet20!J29) -> 5 | ... R29: =SUM(Ričardas!R29,Karolina!R29,Rasa!R29,'7'!R29,Jolanta!R29,'1'!R29,'2'!R29,'3'!R29,'4'!R29,'5'!R29,'6'!R29,Sheet13!R29,Sheet14!R29,Sheet15!R29,Sheet16!R29,Sheet17!R29,Sheet18!R29,Sheet19!R29,Sheet20!R29) -> 0
A30: 5.1 | B30: iki 18 metų (3.1-4.1) | C30: =SUM(Ričardas!C30,Karolina!C30,Rasa!C30,'7'!C30,Jolanta!C30,'1'!C30,'2'!C30,'3'!C30,'4'!C30,'5'!C30,'6'!C30,Sheet13!C30,Sheet14!C30,Sheet15!C30,Sheet16!C30,Sheet17!C30,Sheet18!C30,Sheet19!C30,Sheet20!C30) -> 0 | D30: =SUM(Ričardas!D30,Karolina!D30,Rasa!D30,'7'!D30,Jolanta!D30,'1'!D30,'2'!D30,'3'!D30,'4'!D30,'5'!D30,'6'!D30,Sheet13!D30,Sheet14!D30,Sheet15!D30,Sheet16!D30,Sheet17!D30,Sheet18!D30,Sheet19!D30,Sheet20!D30) -> 0 | E30: =SUM(Ričardas!E30,Karolina!E30,Rasa!E30,'7'!E30,Jolanta!E30,'1'!E30,'2'!E30,'3'!E30,'4'!E30,'5'!E30,'6'!E30,Sheet13!E30,Sheet14!E30,Sheet15!E30,Sheet16!E30,Sheet17!E30,Sheet18!E30,Sheet19!E30,Sheet20!E30) -> 0 | F30: =SUM(Ričardas!F30,Karolina!F30,Rasa!F30,'7'!F30,Jolanta!F30,'1'!F30,'2'!F30,'3'!F30,'4'!F30,'5'!F30,'6'!F30,Sheet13!F30,Sheet14!F30,Sheet15!F30,Sheet16!F30,Sheet17!F30,Sheet18!F30,Sheet19!F30,Sheet20!F30) -> 0 | G30: =SUM(Ričardas!G30,Karolina!G30,Rasa!G30,'7'!G30,Jolanta!G30,'1'!G30,'2'!G30,'3'!G30,'4'!G30,'5'!G30,'6'!G30,Sheet13!G30,Sheet14!G30,Sheet15!G30,Sheet16!G30,Sheet17!G30,Sheet18!G30,Sheet19!G30,Sheet20!G30) -> 0 | H30: =SUM(Ričardas!H30,Karolina!H30,Rasa!H30,'7'!H30,Jolanta!H30,'1'!H30,'2'!H30,'3'!H30,'4'!H30,'5'!H30,'6'!H30,Sheet13!H30,Sheet14!H30,Sheet15!H30,Sheet16!H30,Sheet17!H30,Sheet18!H30,Sheet19!H30,Sheet20!H30) -> 0 | I30: =SUM(Ričardas!I30,Karolina!I30,Rasa!I30,'7'!I30,Jolanta!I30,'1'!I30,'2'!I30,'3'!I30,'4'!I30,'5'!I30,'6'!I30,Sheet13!I30,Sheet14!I30,Sheet15!I30,Sheet16!I30,Sheet17!I30,Sheet18!I30,Sheet19!I30,Sheet20!I30) -> 0 | J30: =SUM(Ričardas!J30,Karolina!J30,Rasa!J30,'7'!J30,Jolanta!J30,'1'!J30,'2'!J30,'3'!J30,'4'!J30,'5'!J30,'6'!J30,Sheet13!J30,Sheet14!J30,Sheet15!J30,Sheet16!J30,Sheet17!J30,Sheet18!J30,Sheet19!J30,Sheet20!J30) -> 0 | ... R30: =SUM(Ričardas!R30,Karolina!R30,Rasa!R30,'7'!R30,Jolanta!R30,'1'!R30,'2'!R30,'3'!R30,'4'!R30,'5'!R30,'6'!R30,Sheet13!R30,Sheet14!R30,Sheet15!R30,Sheet16!R30,Sheet17!R30,Sheet18!R30,Sheet19!R30,Sheet20!R30) -> 0
A31: 6 | B31: Asmenų, dalyvavusių smurtinį elgesį keičiančioje programoje, skaičius, iš jų² | C31: =SUM(Ričardas!C31,Karolina!C31,Rasa!C31,'7'!C31,Jolanta!C31,'1'!C31,'2'!C31,'3'!C31,'4'!C31,'5'!C31,'6'!C31,Sheet13!C31,Sheet14!C31,Sheet15!C31,Sheet16!C31,Sheet17!C31,Sheet18!C31,Sheet19!C31,Sheet20!C31) -> 83 | D31: =SUM(Ričardas!D31,Karolina!D31,Rasa!D31,'7'!D31,Jolanta!D31,'1'!D31,'2'!D31,'3'!D31,'4'!D31,'5'!D31,'6'!D31,Sheet13!D31,Sheet14!D31,Sheet15!D31,Sheet16!D31,Sheet17!D31,Sheet18!D31,Sheet19!D31,Sheet20!D31) -> 19 | E31: =SUM(Ričardas!E31,Karolina!E31,Rasa!E31,'7'!E31,Jolanta!E31,'1'!E31,'2'!E31,'3'!E31,'4'!E31,'5'!E31,'6'!E31,Sheet13!E31,Sheet14!E31,Sheet15!E31,Sheet16!E31,Sheet17!E31,Sheet18!E31,Sheet19!E31,Sheet20!E31) -> 5 | F31: =SUM(Ričardas!F31,Karolina!F31,Rasa!F31,'7'!F31,Jolanta!F31,'1'!F31,'2'!F31,'3'!F31,'4'!F31,'5'!F31,'6'!F31,Sheet13!F31,Sheet14!F31,Sheet15!F31,Sheet16!F31,Sheet17!F31,Sheet18!F31,Sheet19!F31,Sheet20!F31) -> 1 | G31: =SUM(Ričardas!G31,Karolina!G31,Rasa!G31,'7'!G31,Jolanta!G31,'1'!G31,'2'!G31,'3'!G31,'4'!G31,'5'!G31,'6'!G31,Sheet13!G31,Sheet14!G31,Sheet15!G31,Sheet16!G31,Sheet17!G31,Sheet18!G31,Sheet19!G31,Sheet20!G31) -> 8 | H31: =SUM(Ričardas!H31,Karolina!H31,Rasa!H31,'7'!H31,Jolanta!H31,'1'!H31,'2'!H31,'3'!H31,'4'!H31,'5'!H31,'6'!H31,Sheet13!H31,Sheet14!H31,Sheet15!H31,Sheet16!H31,Sheet17!H31,Sheet18!H31,Sheet19!H31,Sheet20!H31) -> 4 | I31: =SUM(Ričardas!I31,Karolina!I31,Rasa!I31,'7'!I31,Jolanta!I31,'1'!I31,'2'!I31,'3'!I31,'4'!I31,'5'!I31,'6'!I31,Sheet13!I31,Sheet14!I31,Sheet15!I31,Sheet16!I31,Sheet17!I31,Sheet18!I31,Sheet19!I31,Sheet20!I31) -> 58 | J31: =SUM(Ričardas!J31,Karolina!J31,Rasa!J31,'7'!J31,Jolanta!J31,'1'!J31,'2'!J31,'3'!J31,'4'!J31,'5'!J31,'6'!J31,Sheet13!J31,Sheet14!J31,Sheet15!J31,Sheet16!J31,Sheet17!J31,Sheet18!J31,Sheet19!J31,Sheet20!J31) -> 13 | ... R31: =SUM(Ričardas!R31,Karolina!R31,Rasa!R31,'7'!R31,Jolanta!R31,'1'!R31,'2'!R31,'3'!R31,'4'!R31,'5'!R31,'6'!R31,Sheet13!R31,Sheet14!R31,Sheet15!R31,Sheet16!R31,Sheet17!R31,Sheet18!R31,Sheet19!R31,Sheet20!R31) -> 0
A32: 6.1 | B32: iki 18 metų | C32: =SUM(Ričardas!C32,Karolina!C32,Rasa!C32,'7'!C32,Jolanta!C32,'1'!C32,'2'!C32,'3'!C32,'4'!C32,'5'!C32,'6'!C32,Sheet13!C32,Sheet14!C32,Sheet15!C32,Sheet16!C32,Sheet17!C32,Sheet18!C32,Sheet19!C32,Sheet20!C32) -> 0 | D32: =SUM(Ričardas!D32,Karolina!D32,Rasa!D32,'7'!D32,Jolanta!D32,'1'!D32,'2'!D32,'3'!D32,'4'!D32,'5'!D32,'6'!D32,Sheet13!D32,Sheet14!D32,Sheet15!D32,Sheet16!D32,Sheet17!D32,Sheet18!D32,Sheet19!D32,Sheet20!D32) -> 0 | E32: =SUM(Ričardas!E32,Karolina!E32,Rasa!E32,'7'!E32,Jolanta!E32,'1'!E32,'2'!E32,'3'!E32,'4'!E32,'5'!E32,'6'!E32,Sheet13!E32,Sheet14!E32,Sheet15!E32,Sheet16!E32,Sheet17!E32,Sheet18!E32,Sheet19!E32,Sheet20!E32) -> 0 | F32: =SUM(Ričardas!F32,Karolina!F32,Rasa!F32,'7'!F32,Jolanta!F32,'1'!F32,'2'!F32,'3'!F32,'4'!F32,'5'!F32,'6'!F32,Sheet13!F32,Sheet14!F32,Sheet15!F32,Sheet16!F32,Sheet17!F32,Sheet18!F32,Sheet19!F32,Sheet20!F32) -> 0 | G32: =SUM(Ričardas!G32,Karolina!G32,Rasa!G32,'7'!G32,Jolanta!G32,'1'!G32,'2'!G32,'3'!G32,'4'!G32,'5'!G32,'6'!G32,Sheet13!G32,Sheet14!G32,Sheet15!G32,Sheet16!G32,Sheet17!G32,Sheet18!G32,Sheet19!G32,Sheet20!G32) -> 0 | H32: =SUM(Ričardas!H32,Karolina!H32,Rasa!H32,'7'!H32,Jolanta!H32,'1'!H32,'2'!H32,'3'!H32,'4'!H32,'5'!H32,'6'!H32,Sheet13!H32,Sheet14!H32,Sheet15!H32,Sheet16!H32,Sheet17!H32,Sheet18!H32,Sheet19!H32,Sheet20!H32) -> 0 | I32: =SUM(Ričardas!I32,Karolina!I32,Rasa!I32,'7'!I32,Jolanta!I32,'1'!I32,'2'!I32,'3'!I32,'4'!I32,'5'!I32,'6'!I32,Sheet13!I32,Sheet14!I32,Sheet15!I32,Sheet16!I32,Sheet17!I32,Sheet18!I32,Sheet19!I32,Sheet20!I32) -> 0 | J32: =SUM(Ričardas!J32,Karolina!J32,Rasa!J32,'7'!J32,Jolanta!J32,'1'!J32,'2'!J32,'3'!J32,'4'!J32,'5'!J32,'6'!J32,Sheet13!J32,Sheet14!J32,Sheet15!J32,Sheet16!J32,Sheet17!J32,Sheet18!J32,Sheet19!J32,Sheet20!J32) -> 0 | ... R32: =SUM(Ričardas!R32,Karolina!R32,Rasa!R32,'7'!R32,Jolanta!R32,'1'!R32,'2'!R32,'3'!R32,'4'!R32,'5'!R32,'6'!R32,Sheet13!R32,Sheet14!R32,Sheet15!R32,Sheet16!R32,Sheet17!R32,Sheet18!R32,Sheet19!R32,Sheet20!R32) -> 0
A33: 7 | B33: Asmenų, išklausiusių smurtinį elgesį keičiančią programą,skaičius, iš jų | C33: =SUM(Ričardas!C33,Karolina!C33,Rasa!C33,'7'!C33,Jolanta!C33,'1'!C33,'2'!C33,'3'!C33,'4'!C33,'5'!C33,'6'!C33,Sheet13!C33,Sheet14!C33,Sheet15!C33,Sheet16!C33,Sheet17!C33,Sheet18!C33,Sheet19!C33,Sheet20!C33) -> 36 | D33: =SUM(Ričardas!D33,Karolina!D33,Rasa!D33,'7'!D33,Jolanta!D33,'1'!D33,'2'!D33,'3'!D33,'4'!D33,'5'!D33,'6'!D33,Sheet13!D33,Sheet14!D33,Sheet15!D33,Sheet16!D33,Sheet17!D33,Sheet18!D33,Sheet19!D33,Sheet20!D33) -> 11 | E33: =SUM(Ričardas!E33,Karolina!E33,Rasa!E33,'7'!E33,Jolanta!E33,'1'!E33,'2'!E33,'3'!E33,'4'!E33,'5'!E33,'6'!E33,Sheet13!E33,Sheet14!E33,Sheet15!E33,Sheet16!E33,Sheet17!E33,Sheet18!E33,Sheet19!E33,Sheet20!E33) -> 3 | F33: =SUM(Ričardas!F33,Karolina!F33,Rasa!F33,'7'!F33,Jolanta!F33,'1'!F33,'2'!F33,'3'!F33,'4'!F33,'5'!F33,'6'!F33,Sheet13!F33,Sheet14!F33,Sheet15!F33,Sheet16!F33,Sheet17!F33,Sheet18!F33,Sheet19!F33,Sheet20!F33) -> 0 | G33: =SUM(Ričardas!G33,Karolina!G33,Rasa!G33,'7'!G33,Jolanta!G33,'1'!G33,'2'!G33,'3'!G33,'4'!G33,'5'!G33,'6'!G33,Sheet13!G33,Sheet14!G33,Sheet15!G33,Sheet16!G33,Sheet17!G33,Sheet18!G33,Sheet19!G33,Sheet20!G33) -> 5 | H33: =SUM(Ričardas!H33,Karolina!H33,Rasa!H33,'7'!H33,Jolanta!H33,'1'!H33,'2'!H33,'3'!H33,'4'!H33,'5'!H33,'6'!H33,Sheet13!H33,Sheet14!H33,Sheet15!H33,Sheet16!H33,Sheet17!H33,Sheet18!H33,Sheet19!H33,Sheet20!H33) -> 3 | I33: =SUM(Ričardas!I33,Karolina!I33,Rasa!I33,'7'!I33,Jolanta!I33,'1'!I33,'2'!I33,'3'!I33,'4'!I33,'5'!I33,'6'!I33,Sheet13!I33,Sheet14!I33,Sheet15!I33,Sheet16!I33,Sheet17!I33,Sheet18!I33,Sheet19!I33,Sheet20!I33) -> 25 | J33: =SUM(Ričardas!J33,Karolina!J33,Rasa!J33,'7'!J33,Jolanta!J33,'1'!J33,'2'!J33,'3'!J33,'4'!J33,'5'!J33,'6'!J33,Sheet13!J33,Sheet14!J33,Sheet15!J33,Sheet16!J33,Sheet17!J33,Sheet18!J33,Sheet19!J33,Sheet20!J33) -> 8 | ... R33: =SUM(Ričardas!R33,Karolina!R33,Rasa!R33,'7'!R33,Jolanta!R33,'1'!R33,'2'!R33,'3'!R33,'4'!R33,'5'!R33,'6'!R33,Sheet13!R33,Sheet14!R33,Sheet15!R33,Sheet16!R33,Sheet17!R33,Sheet18!R33,Sheet19!R33,Sheet20!R33) -> 0
A34: 7.1 | B34: iki 18 metų | C34: =SUM(Ričardas!C34,Karolina!C34,Rasa!C34,'7'!C34,Jolanta!C34,'1'!C34,'2'!C34,'3'!C34,'4'!C34,'5'!C34,'6'!C34,Sheet13!C34,Sheet14!C34,Sheet15!C34,Sheet16!C34,Sheet17!C34,Sheet18!C34,Sheet19!C34,Sheet20!C34) -> 0 | D34: =SUM(Ričardas!D34,Karolina!D34,Rasa!D34,'7'!D34,Jolanta!D34,'1'!D34,'2'!D34,'3'!D34,'4'!D34,'5'!D34,'6'!D34,Sheet13!D34,Sheet14!D34,Sheet15!D34,Sheet16!D34,Sheet17!D34,Sheet18!D34,Sheet19!D34,Sheet20!D34) -> 0 | E34: =SUM(Ričardas!E34,Karolina!E34,Rasa!E34,'7'!E34,Jolanta!E34,'1'!E34,'2'!E34,'3'!E34,'4'!E34,'5'!E34,'6'!E34,Sheet13!E34,Sheet14!E34,Sheet15!E34,Sheet16!E34,Sheet17!E34,Sheet18!E34,Sheet19!E34,Sheet20!E34) -> 0 | F34: =SUM(Ričardas!F34,Karolina!F34,Rasa!F34,'7'!F34,Jolanta!F34,'1'!F34,'2'!F34,'3'!F34,'4'!F34,'5'!F34,'6'!F34,Sheet13!F34,Sheet14!F34,Sheet15!F34,Sheet16!F34,Sheet17!F34,Sheet18!F34,Sheet19!F34,Sheet20!F34) -> 0 | G34: =SUM(Ričardas!G34,Karolina!G34,Rasa!G34,'7'!G34,Jolanta!G34,'1'!G34,'2'!G34,'3'!G34,'4'!G34,'5'!G34,'6'!G34,Sheet13!G34,Sheet14!G34,Sheet15!G34,Sheet16!G34,Sheet17!G34,Sheet18!G34,Sheet19!G34,Sheet20!G34) -> 0 | H34: =SUM(Ričardas!H34,Karolina!H34,Rasa!H34,'7'!H34,Jolanta!H34,'1'!H34,'2'!H34,'3'!H34,'4'!H34,'5'!H34,'6'!H34,Sheet13!H34,Sheet14!H34,Sheet15!H34,Sheet16!H34,Sheet17!H34,Sheet18!H34,Sheet19!H34,Sheet20!H34) -> 0 | I34: =SUM(Ričardas!I34,Karolina!I34,Rasa!I34,'7'!I34,Jolanta!I34,'1'!I34,'2'!I34,'3'!I34,'4'!I34,'5'!I34,'6'!I34,Sheet13!I34,Sheet14!I34,Sheet15!I34,Sheet16!I34,Sheet17!I34,Sheet18!I34,Sheet19!I34,Sheet20!I34) -> 0 | J34: =SUM(Ričardas!J34,Karolina!J34,Rasa!J34,'7'!J34,Jolanta!J34,'1'!J34,'2'!J34,'3'!J34,'4'!J34,'5'!J34,'6'!J34,Sheet13!J34,Sheet14!J34,Sheet15!J34,Sheet16!J34,Sheet17!J34,Sheet18!J34,Sheet19!J34,Sheet20!J34) -> 0 | ... R34: =SUM(Ričardas!R34,Karolina!R34,Rasa!R34,'7'!R34,Jolanta!R34,'1'!R34,'2'!R34,'3'!R34,'4'!R34,'5'!R34,'6'!R34,Sheet13!R34,Sheet14!R34,Sheet15!R34,Sheet16!R34,Sheet17!R34,Sheet18!R34,Sheet19!R34,Sheet20!R34) -> 0
A35: Pastabos ir paaiškinimai:
B36: 1. 5 punkte pateikiami ataskaitos dienos duomenys, kituose punktuose − duomenys nuo metų pradžios didėjančia tvarka.
B37: 2. ¹ - asmenys, kurie buvo nuteisti už smurtą artimoje aplinkoje. Pagal Lietuvos Respublikos apsaugos nuo smurto artimoje aplinkoje įstatymą, artima aplinka - aplinka, kurią sudaro asmenys, siejami arba praeityje sieti santuokiniais, partnerystės, svainystės ar kitais artimais ryšiais, taip pat asmenys, kartu gyvenantys ir tvarkantys bendrą ūkį.
B38: 3. ² - asmenų, dalyvavusių programose, kurios konkrečiai skirtos smurtiniam elgesiui mažinti, skaičius.
B42: (pareigų pavadinimas) | N42: (vardas ir pavardė)

Sheet Ričardas
A4: DARBO SU SMURTAUTOJAIS ARTIMOJE APLINKOJE, ESANČIAIS JONIŠKIO RAJONO SAVIVALDYBĖS VEIKLOS TERITORIJOS PRIEŽIŪROJE, STATISTINĖ ATASKAITA
A7: 2026-07-01 Nr. ___________
A9: 2026 m. sausio - birželio duomenys
A11: Eil. Nr. | B11: Duomenų pavadinimas | C11: Asmenų skaičius | E11: Asmenys
E12: kuriems paskirta viešųjų darbų bausmė (BK 46 str.) | G12: kuriems paskirta laisvės apribojimo bausmė (BK 48 str.) | I12: kuriems paskirtos baudžiamojo poveikio priemonės (BK 69, 70, 72¹, 72² str.) | K12: kuriems skirtos auklėjamojo poveikio priemonės (BK 82 str.) | M12: kuriems bausmės vykdymas atidėtas (BK 75 str.) | O12: kuriems bausmės vykdymas atidėtas (BK 92 str.) | Q12: kurie lygtinai paleisti iš pataisos įstaigų (BVK 82 str.)
C19: iš viso | D19: moterų | E19: iš viso | F19: moterų | G19: iš viso | H19: moterų | I19: iš viso | J19: moterų | K19: iš viso | L19: moterų | M19: iš viso | N19: moterų | O19: iš viso | P19: moterų | Q19: iš viso | R19: moterų
A20: 1 | B20: 2 | C20: 3 | D20: 4 | E20: 5 | F20: 6 | G20: 7 | H20: 8 | I20: 9 | J20: 10 | K20: 11 | L20: 12 | M20: 13 | N20: 14 | O20: 15 | P20: 16 | Q20: 17 | R20: 18
A21: 1 | B21: Asmenų¹, įtrauktų į duomenų registrus, sausio 1 d. skaičius, iš jų | C21: =E21+G21+I21+K21+M21+O21+Q21 -> 6 | D21: =F21+H21+J21+L21+N21+P21+R21 -> 2 | I21: 6 | J21: 2
A22: 1.1 | B22: iki 18 metų | C22: =E22+G22+I22+K22+M22+O22+Q22 -> 0 | D22: =F22+H22+J22+L22+N22+P22+R22 -> 0
A23: 2 | B23: Asmenų, įtrauktų į duomenų registrus per ataskaitinį laikotarpį, skaičius, iš jų | C23: =E23+G23+I23+K23+M23+O23+Q23 -> 8 | D23: =F23+H23+J23+L23+N23+P23+R23 -> 0 | E23: 1 | I23: 7
A24: 2.1 | B24: iki 18 metų | C24: =E24+G24+I24+K24+M24+O24+Q24 -> 0 | D24: =F24+H24+J24+L24+N24+P24+R24 -> 0
A25: 3 | B25: Asmenų, kurie per ataskaitinį laikotarpį buvo įtraukti į duomenų registrus, skaičius (1+2), iš jų | C25: =E25+G25+I25+K25+M25+O25+Q25 -> 14 | D25: =F25+H25+J25+L25+N25+P25+R25 -> 2 | E25: =E21+E23 -> 1 | F25: =F21+F23 -> 0 | G25: =G21+G23 -> 0 | H25: =H21+H23 -> 0 | I25: =I21+I23 -> 13 | J25: =J21+J23 -> 2 | K25: =K21+K23 -> 0 | L25: =L21+L23 -> 0 | ... R25: =R21+R23 -> 0
A26: 3.1 | B26: iki 18 metų (1.1+2.1) | C26: =E26+G26+I26+K26+M26+O26+Q26 -> 0 | D26: =F26+H26+J26+L26+N26+P26+R26 -> 0 | E26: =E22+E24 -> 0 | F26: =F22+F24 -> 0 | G26: =G22+G24 -> 0 | H26: =H22+H24 -> 0 | I26: =I22+I24 -> 0 | J26: =J22+J24 -> 0 | K26: =K22+K24 -> 0 | L26: =L22+L24 -> 0 | ... R26: =R22+R24 -> 0
A27: 4 | B27: Asmenų, kurie per ataskaitinį laikotarpį buvo išregistruoti iš duomenų registrų, skaičius, iš jų | C27: =E27+G27+I27+K27+M27+O27+Q27 -> 6 | D27: =F27+H27+J27+L27+N27+P27+R27 -> 2 | E27: 1 | I27: 5 | J27: 2
A28: 4.1 | B28: iki 18 metų | C28: =E28+G28+I28+K28+M28+O28+Q28 -> 0 | D28: =F28+H28+J28+L28+N28+P28+R28 -> 0
A29: 5 | B29: Ataskaitos dieną į duomenų registrus įtrauktų asmenų skaičius(3-4), iš jų | C29: =E29+G29+I29+K29+M29+O29+Q29 -> 8 | D29: =F29+H29+J29+L29+N29+P29+R29 -> 0 | E29: =E25-E27 -> 0 | F29: =F25-F27 -> 0 | G29: =G25-G27 -> 0 | H29: =H25-H27 -> 0 | I29: =I25-I27 -> 8 | J29: =J25-J27 -> 0 | K29: =K25-K27 -> 0 | L29: =L25-L27 -> 0 | ... R29: =R25-R27 -> 0
A30: 5.1 | B30: iki 18 metų (3.1-4.1) | C30: =E30+G30+I30+K30+M30+O30+Q30 -> 0 | D30: =F30+H30+J30+L30+N30+P30+R30 -> 0 | E30: =E26-E28 -> 0 | F30: =F26-F28 -> 0 | G30: =G26-G28 -> 0 | H30: =H26-H28 -> 0 | I30: =I26-I28 -> 0 | J30: =J26-J28 -> 0 | K30: =K26-K28 -> 0 | L30: =L26-L28 -> 0 | ... R30: =R26-R28 -> 0
A31: 6 | B31: Asmenų, dalyvavusių smurtinį elgesį keičiančioje programoje, skaičius, iš jų² | C31: =E31+G31+I31+K31+M31+O31+Q31 -> 13 | D31: =F31+H31+J31+L31+N31+P31+R31 -> 2 | I31: 13 | J31: 2
A32: 6.1 | B32: iki 18 metų | C32: =E32+G32+I32+K32+M32+O32+Q32 -> 0 | D32: =F32+H32+J32+L32+N32+P32+R32 -> 0
A33: 7 | B33: Asmenų, išklausiusių smurtinį elgesį keičiančią programą,skaičius, iš jų | C33: =E33+G33+I33+K33+M33+O33+Q33 -> 5 | D33: =F33+H33+J33+L33+N33+P33+R33 -> 2 | I33: 5 | J33: 2
A34: 7.1 | B34: iki 18 metų | C34: =E34+G34+I34+K34+M34+O34+Q34 -> 0 | D34: =F34+H34+J34+L34+N34+P34+R34 -> 0
A35: Pastabos ir paaiškinimai:
B36: 1. 5 punkte pateikiami ataskaitos dienos duomenys, kituose punktuose − duomenys nuo metų pradžios didėjančia tvarka.
B37: 2. ¹ - asmenys, kurie buvo nuteisti už smurtą artimoje aplinkoje. Pagal Lietuvos Respublikos apsaugos nuo smurto artimoje aplinkoje įstatymą, artima aplinka - aplinka, kurią sudaro asmenys, siejami arba praeityje sieti santuokiniais, partnerystės, svainystės ar kitais artimais ryšiais, taip pat asmenys, kartu gyvenantys ir tvarkantys bendrą ūkį.
B38: 3. ² - asmenų, dalyvavusių programose, kurios konkrečiai skirtos smurtiniam elgesiui mažinti, skaičius.
B41: Vyriausiasis specialistas | N41: Ričardas Urnikis
B42: (pareigų pavadinimas) | N42: (vardas ir pavardė)

Sheet Karolina
A4: DARBO SU SMURTAUTOJAIS ARTIMOJE APLINKOJE, ESANČIAIS RADVILIŠKIO RAJONO SAVIVALDYBĖS VEIKLOS TERITORIJOS PRIEŽIŪROJE, STATISTINĖ ATASKAITA
A7: 2026-07-01 Nr. ___________
A9: 2026 m. sausio - birželio mėnesių duomenys
A11: Eil. Nr. | B11: Duomenų pavadinimas | C11: Asmenų skaičius | E11: Asmenys
E12: kuriems paskirta viešųjų darbų bausmė (BK 46 str.) | G12: kuriems paskirta laisvės apribojimo bausmė (BK 48 str.) | I12: kuriems paskirtos baudžiamojo poveikio priemonės (BK 69, 70, 72¹, 72² str.) | K12: kuriems skirtos auklėjamojo poveikio priemonės (BK 82 str.) | M12: kuriems bausmės vykdymas atidėtas (BK 75 str.) | O12: kuriems bausmės vykdymas atidėtas (BK 92 str.) | Q12: kurie lygtinai paleisti iš pataisos įstaigų (BVK 82 str.)
C19: iš viso | D19: moterų | E19: iš viso | F19: moterų | G19: iš viso | H19: moterų | I19: iš viso | J19: moterų | K19: iš viso | L19: moterų | M19: iš viso | N19: moterų | O19: iš viso | P19: moterų | Q19: iš viso | R19: moterų
A20: 1 | B20: 2 | C20: 3 | D20: 4 | E20: 5 | F20: 6 | G20: 7 | H20: 8 | I20: 9 | J20: 10 | K20: 11 | L20: 12 | M20: 13 | N20: 14 | O20: 15 | P20: 16 | Q20: 17 | R20: 18
A21: 1 | B21: Asmenų¹, įtrauktų į duomenų registrus, sausio 1 d. skaičius, iš jų | C21: =E21+G21+I21+K21+M21+O21+Q21 -> 12 | D21: =F21+H21+J21+L21+N21+P21+R21 -> 2 | E21: 1 | F21: 0 | G21: 2 | H21: 0 | I21: 7 | J21: 2 | K21: 0 | L21: 0 | M21: 2 | N21: 0 | O21: 0 | P21: 0 | Q21: 0 | R21: 0
A22: 1.1 | B22: iki 18 metų | C22: =E22+G22+I22+K22+M22+O22+Q22 -> 0 | D22: =F22+H22+J22+L22+N22+P22+R22 -> 0
A23: 2 | B23: Asmenų, įtrauktų į duomenų registrus per ataskaitinį laikotarpį, skaičius, iš jų | C23: =E23+G23+I23+K23+M23+O23+Q23 -> 16 | D23: =F23+H23+J23+L23+N23+P23+R23 -> 2 | E23: 2 | F23: 1 | G23: 4 | H23: 1 | I23: 8 | M23: 2
A24: 2.1 | B24: iki 18 metų | C24: =E24+G24+I24+K24+M24+O24+Q24 -> 0 | D24: =F24+H24+J24+L24+N24+P24+R24 -> 0
A25: 3 | B25: Asmenų, kurie per ataskaitinį laikotarpį buvo įtraukti į duomenų registrus, skaičius (1+2), iš jų | C25: =E25+G25+I25+K25+M25+O25+Q25 -> 28 | D25: =F25+H25+J25+L25+N25+P25+R25 -> 4 | E25: =E21+E23 -> 3 | F25: =F21+F23 -> 1 | G25: =G21+G23 -> 6 | H25: =H21+H23 -> 1 | I25: =I21+I23 -> 15 | J25: =J21+J23 -> 2 | K25: =K21+K23 -> 0 | L25: =L21+L23 -> 0 | ... R25: =R21+R23 -> 0
A26: 3.1 | B26: iki 18 metų (1.1+2.1) | C26: =E26+G26+I26+K26+M26+O26+Q26 -> 0 | D26: =F26+H26+J26+L26+N26+P26+R26 -> 0 | E26: =E22+E24 -> 0 | F26: =F22+F24 -> 0 | G26: =G22+G24 -> 0 | H26: =H22+H24 -> 0 | I26: =I22+I24 -> 0 | J26: =J22+J24 -> 0 | K26: =K22+K24 -> 0 | L26: =L22+L24 -> 0 | ... R26: =R22+R24 -> 0
A27: 4 | B27: Asmenų, kurie per ataskaitinį laikotarpį buvo išregistruoti iš duomenų registrų, skaičius, iš jų | C27: =E27+G27+I27+K27+M27+O27+Q27 -> 10 | D27: =F27+H27+J27+L27+N27+P27+R27 -> 2 | E27: 2 | F27: 1 | G27: 2 | I27: 5 | J27: 1 | M27: 1
A28: 4.1 | B28: iki 18 metų | C28: =E28+G28+I28+K28+M28+O28+Q28 -> 0 | D28: =F28+H28+J28+L28+N28+P28+R28 -> 0
A29: 5 | B29: Ataskaitos dieną į duomenų registrus įtrauktų asmenų skaičius(3-4), iš jų | C29: =E29+G29+I29+K29+M29+O29+Q29 -> 18 | D29: =F29+H29+J29+L29+N29+P29+R29 -> 2 | E29: =E25-E27 -> 1 | F29: =F25-F27 -> 0 | G29: =G25-G27 -> 4 | H29: =H25-H27 -> 1 | I29: =I25-I27 -> 10 | J29: =J25-J27 -> 1 | K29: =K25-K27 -> 0 | L29: =L25-L27 -> 0 | ... R29: =R25-R27 -> 0
A30: 5.1 | B30: iki 18 metų (3.1-4.1) | C30: =E30+G30+I30+K30+M30+O30+Q30 -> 0 | D30: =F30+H30+J30+L30+N30+P30+R30 -> 0 | E30: =E26-E28 -> 0 | F30: =F26-F28 -> 0 | G30: =G26-G28 -> 0 | H30: =H26-H28 -> 0 | I30: =I26-I28 -> 0 | J30: =J26-J28 -> 0 | K30: =K26-K28 -> 0 | L30: =L26-L28 -> 0 | ... R30: =R26-R28 -> 0
A31: 6 | B31: Asmenų, dalyvavusių smurtinį elgesį keičiančioje programoje, skaičius, iš jų² | C31: =E31+G31+I31+K31+M31+O31+Q31 -> 18 | D31: =F31+H31+J31+L31+N31+P31+R31 -> 4 | E31: 2 | F31: 1 | G31: 4 | H31: 1 | I31: 10 | J31: 2 | M31: 2
A32: 6.1 | B32: iki 18 metų | C32: =E32+G32+I32+K32+M32+O32+Q32 -> 0 | D32: =F32+H32+J32+L32+N32+P32+R32 -> 0
A33: 7 | B33: Asmenų, išklausiusių smurtinį elgesį keičiančią programą,skaičius, iš jų | C33: =E33+G33+I33+K33+M33+O33+Q33 -> 8 | D33: =F33+H33+J33+L33+N33+P33+R33 -> 1 | E33: 1 | G33: 2 | I33: 4 | J33: 1 | M33: 1
A34: 7.1 | B34: iki 18 metų | C34: =E34+G34+I34+K34+M34+O34+Q34 -> 0 | D34: =F34+H34+J34+L34+N34+P34+R34 -> 0
A35: Pastabos ir paaiškinimai:
B36: 1. 5 punkte pateikiami ataskaitos dienos duomenys, kituose punktuose − duomenys nuo metų pradžios didėjančia tvarka.
B37: 2. ¹ - asmenys, kurie buvo nuteisti už smurtą artimoje aplinkoje. Pagal Lietuvos Respublikos apsaugos nuo smurto artimoje aplinkoje įstatymą, artima aplinka - aplinka, kurią sudaro asmenys, siejami arba praeityje sieti santuokiniais, partnerystės, svainystės ar kitais artimais ryšiais, taip pat asmenys, kartu gyvenantys ir tvarkantys bendrą ūkį.
B38: 3. ² - asmenų, dalyvavusių programose, kurios konkrečiai skirtos smurtiniam elgesiui mažinti, skaičius.
B42: (pareigų pavadinimas) | N42: (vardas ir pavardė)

Sheet Rasa
A4: DARBO SU SMURTAUTOJAIS ARTIMOJE APLINKOJE, ESANČIAIS KELMĖS RAJONO SAVIVALDYBĖS VEIKLOS TERITORIJOS PRIEŽIŪROJE, STATISTINĖ ATASKAITA
A7: 2026-07-01 Nr. ___________
A9: 2026 m. sausio - birželio mėnesių duomenys
A11: Eil. Nr. | B11: Duomenų pavadinimas | C11: Asmenų skaičius | E11: Asmenys
E12: kuriems paskirta viešųjų darbų bausmė (BK 46 str.) | G12: kuriems paskirta laisvės apribojimo bausmė (BK 48 str.) | I12: kuriems paskirtos baudžiamojo poveikio priemonės (BK 69, 70, 72¹, 72² str.) | K12: kuriems skirtos auklėjamojo poveikio priemonės (BK 82 str.) | M12: kuriems bausmės vykdymas atidėtas (BK 75 str.) | O12: kuriems bausmės vykdymas atidėtas (BK 92 str.) | Q12: kurie lygtinai paleisti iš pataisos įstaigų (BVK 82 str.)
C19: iš viso | D19: moterų | E19: iš viso | F19: moterų | G19: iš viso | H19: moterų | I19: iš viso | J19: moterų | K19: iš viso | L19: moterų | M19: iš viso | N19: moterų | O19: iš viso | P19: moterų | Q19: iš viso | R19: moterų
A20: 1 | B20: 2 | C20: 3 | D20: 4 | E20: 5 | F20: 6 | G20: 7 | H20: 8 | I20: 9 | J20: 10 | K20: 11 | L20: 12 | M20: 13 | N20: 14 | O20: 15 | P20: 16 | Q20: 17 | R20: 18
A21: 1 | B21: Asmenų¹, įtrauktų į duomenų registrus, sausio 1 d. skaičius, iš jų | C21: =E21+G21+I21+K21+M21+O21+Q21 -> 7 | D21: =F21+H21+J21+L21+N21+P21+R21 -> 0 | E21: 0 | F21: 0 | G21: 0 | H21: 0 | I21: 5 | J21: 0 | K21: 0 | L21: 0 | M21: 2 | N21: 0 | O21: 0 | P21: 0 | Q21: 0 | R21: 0
A22: 1.1 | B22: iki 18 metų | C22: =E22+G22+I22+K22+M22+O22+Q22 -> 0 | D22: =F22+H22+J22+L22+N22+P22+R22 -> 0
A23: 2 | B23: Asmenų, įtrauktų į duomenų registrus per ataskaitinį laikotarpį, skaičius, iš jų | C23: =E23+G23+I23+K23+M23+O23+Q23 -> 13 | D23: =F23+H23+J23+L23+N23+P23+R23 -> 5 | G23: 4 | H23: 3 | I23: 7 | J23: 2 | M23: 2
A24: 2.1 | B24: iki 18 metų | C24: =E24+G24+I24+K24+M24+O24+Q24 -> 0 | D24: =F24+H24+J24+L24+N24+P24+R24 -> 0
A25: 3 | B25: Asmenų, kurie per ataskaitinį laikotarpį buvo įtraukti į duomenų registrus, skaičius (1+2), iš jų | C25: =E25+G25+I25+K25+M25+O25+Q25 -> 20 | D25: =F25+H25+J25+L25+N25+P25+R25 -> 5 | E25: =E21+E23 -> 0 | F25: =F21+F23 -> 0 | G25: =G21+G23 -> 4 | H25: =H21+H23 -> 3 | I25: =I21+I23 -> 12 | J25: =J21+J23 -> 2 | K25: =K21+K23 -> 0 | L25: =L21+L23 -> 0 | ... R25: =R21+R23 -> 0
A26: 3.1 | B26: iki 18 metų (1.1+2.1) | C26: =E26+G26+I26+K26+M26+O26+Q26 -> 0 | D26: =F26+H26+J26+L26+N26+P26+R26 -> 0 | E26: =E22+E24 -> 0 | F26: =F22+F24 -> 0 | G26: =G22+G24 -> 0 | H26: =H22+H24 -> 0 | I26: =I22+I24 -> 0 | J26: =J22+J24 -> 0 | K26: =K22+K24 -> 0 | L26: =L22+L24 -> 0 | ... R26: =R22+R24 -> 0
A27: 4 | B27: Asmenų, kurie per ataskaitinį laikotarpį buvo išregistruoti iš duomenų registrų, skaičius, iš jų | C27: =E27+G27+I27+K27+M27+O27+Q27 -> 9 | D27: =F27+H27+J27+L27+N27+P27+R27 -> 4 | G27: 3 | H27: 3 | I27: 6 | J27: 1
A28: 4.1 | B28: iki 18 metų | C28: =E28+G28+I28+K28+M28+O28+Q28 -> 0 | D28: =F28+H28+J28+L28+N28+P28+R28 -> 0
A29: 5 | B29: Ataskaitos dieną į duomenų registrus įtrauktų asmenų skaičius(3-4), iš jų | C29: =E29+G29+I29+K29+M29+O29+Q29 -> 11 | D29: =F29+H29+J29+L29+N29+P29+R29 -> 1 | E29: =E25-E27 -> 0 | F29: =F25-F27 -> 0 | G29: =G25-G27 -> 1 | H29: =H25-H27 -> 0 | I29: =I25-I27 -> 6 | J29: =J25-J27 -> 1 | K29: =K25-K27 -> 0 | L29: =L25-L27 -> 0 | ... R29: =R25-R27 -> 0
A30: 5.1 | B30: iki 18 metų (3.1-4.1) | C30: =E30+G30+I30+K30+M30+O30+Q30 -> 0 | D30: =F30+H30+J30+L30+N30+P30+R30 -> 0 | E30: =E26-E28 -> 0 | F30: =F26-F28 -> 0 | G30: =G26-G28 -> 0 | H30: =H26-H28 -> 0 | I30: =I26-I28 -> 0 | J30: =J26-J28 -> 0 | K30: =K26-K28 -> 0 | L30: =L26-L28 -> 0 | ... R30: =R26-R28 -> 0
A31: 6 | B31: Asmenų, dalyvavusių smurtinį elgesį keičiančioje programoje, skaičius, iš jų² | C31: =E31+G31+I31+K31+M31+O31+Q31 -> 17 | D31: =F31+H31+J31+L31+N31+P31+R31 -> 5 | G31: 3 | H31: 3 | I31: 10 | J31: 2 | M31: 4
A32: 6.1 | B32: iki 18 metų | C32: =E32+G32+I32+K32+M32+O32+Q32 -> 0 | D32: =F32+H32+J32+L32+N32+P32+R32 -> 0
A33: 7 | B33: Asmenų, išklausiusių smurtinį elgesį keičiančią programą,skaičius, iš jų | C33: =E33+G33+I33+K33+M33+O33+Q33 -> 9 | D33: =F33+H33+J33+L33+N33+P33+R33 -> 4 | G33: 3 | H33: 3 | I33: 6 | J33: 1
A34: 7.1 | B34: iki 18 metų | C34: =E34+G34+I34+K34+M34+O34+Q34 -> 0 | D34: =F34+H34+J34+L34+N34+P34+R34 -> 0
A35: Pastabos ir paaiškinimai:
B36: 1. 5 punkte pateikiami ataskaitos dienos duomenys, kituose punktuose − duomenys nuo metų pradžios didėjančia tvarka.
B37: 2. ¹ - asmenys, kurie buvo nuteisti už smurtą artimoje aplinkoje. Pagal Lietuvos Respublikos apsaugos nuo smurto artimoje aplinkoje įstatymą, artima aplinka - aplinka, kurią sudaro asmenys, siejami arba praeityje sieti santuokiniais, partnerystės, svainystės ar kitais artimais ryšiais, taip pat asmenys, kartu gyvenantys ir tvarkantys bendrą ūkį.
B38: 3. ² - asmenų, dalyvavusių programose, kurios konkrečiai skirtos smurtiniam elgesiui mažinti, skaičius.
B41: Vyriausioji specialistė | N41: Agnė Dainauskienė
B42: (pareigų pavadinimas) | N42: (vardas ir pavardė)

Sheet Jolanta
A4: DARBO SU SMURTAUTOJAIS ARTIMOJE APLINKOJE, ESANČIAIS ŠIAULIŲ MIESTO SAVIVALDYBĖS VEIKLOS TERITORIJOS PRIEŽIŪROJE, STATISTINĖ ATASKAITA
A7: 2026-07-01 Nr. ___________
A9: 2026 m. sausio - birželio mėnesių duomenys
A11: Eil. Nr. | B11: Duomenų pavadinimas | C11: Asmenų skaičius | E11: Asmenys
E12: kuriems paskirta viešųjų darbų bausmė (BK 46 str.) | G12: kuriems paskirta laisvės apribojimo bausmė (BK 48 str.) | I12: kuriems paskirtos baudžiamojo poveikio priemonės (BK 69, 70, 72¹, 72² str.) | K12: kuriems skirtos auklėjamojo poveikio priemonės (BK 82 str.) | M12: kuriems bausmės vykdymas atidėtas (BK 75 str.) | O12: kuriems bausmės vykdymas atidėtas (BK 92 str.) | Q12: kurie lygtinai paleisti iš pataisos įstaigų (BVK 82 str.)
C19: iš viso | D19: moterų | E19: iš viso | F19: moterų | G19: iš viso | H19: moterų | I19: iš viso | J19: moterų | K19: iš viso | L19: moterų | M19: iš viso | N19: moterų | O19: iš viso | P19: moterų | Q19: iš viso | R19: moterų
A20: 1 | B20: 2 | C20: 3 | D20: 4 | E20: 5 | F20: 6 | G20: 7 | H20: 8 | I20: 9 | J20: 10 | K20: 11 | L20: 12 | M20: 13 | N20: 14 | O20: 15 | P20: 16 | Q20: 17 | R20: 18
A21: 1 | B21: Asmenų¹, įtrauktų į duomenų registrus, sausio 1 d. skaičius, iš jų | C21: =E21+G21+I21+K21+M21+O21+Q21 -> 24 | D21: =F21+H21+J21+L21+N21+P21+R21 -> 8 | E21: 2 | F21: 0 | G21: 1 | H21: 0 | I21: 17 | J21: 7 | M21: 4 | N21: 1
A22: 1.1 | B22: iki 18 metų | C22: =E22+G22+I22+K22+M22+O22+Q22 -> 0 | D22: =F22+H22+J22+L22+N22+P22+R22 -> 0
A23: 2 | B23: Asmenų, įtrauktų į duomenų registrus per ataskaitinį laikotarpį, skaičius, iš jų | C23: =E23+G23+I23+K23+M23+O23+Q23 -> 14 | D23: =F23+H23+J23+L23+N23+P23+R23 -> 0 | E23: 1 | F23: 0 | G23: 3 | I23: 8 | J23: 0 | M23: 2
A24: 2.1 | B24: iki 18 metų | C24: =E24+G24+I24+K24+M24+O24+Q24 -> 0 | D24: =F24+H24+J24+L24+N24+P24+R24 -> 0
A25: 3 | B25: Asmenų, kurie per ataskaitinį laikotarpį buvo įtraukti į duomenų registrus, skaičius (1+2), iš jų | C25: =E25+G25+I25+K25+M25+O25+Q25 -> 38 | D25: =F25+H25+J25+L25+N25+P25+R25 -> 8 | E25: =E21+E23 -> 3 | F25: =F21+F23 -> 0 | G25: =G21+G23 -> 4 | H25: =H21+H23 -> 0 | I25: =I21+I23 -> 25 | J25: =J21+J23 -> 7 | K25: =K21+K23 -> 0 | L25: =L21+L23 -> 0 | ... R25: =R21+R23 -> 0
A26: 3.1 | B26: iki 18 metų (1.1+2.1) | C26: =E26+G26+I26+K26+M26+O26+Q26 -> 0 | D26: =F26+H26+J26+L26+N26+P26+R26 -> 0 | E26: =E22+E24 -> 0 | F26: =F22+F24 -> 0 | G26: =G22+G24 -> 0 | H26: =H22+H24 -> 0 | I26: =I22+I24 -> 0 | J26: =J22+J24 -> 0 | K26: =K22+K24 -> 0 | L26: =L22+L24 -> 0 | ... R26: =R22+R24 -> 0
A27: 4 | B27: Asmenų, kurie per ataskaitinį laikotarpį buvo išregistruoti iš duomenų registrų, skaičius, iš jų | C27: =E27+G27+I27+K27+M27+O27+Q27 -> 13 | D27: =F27+H27+J27+L27+N27+P27+R27 -> 5 | E27: 2 | I27: 10 | J27: 4 | M27: 1 | N27: 1
A28: 4.1 | B28: iki 18 metų | C28: =E28+G28+I28+K28+M28+O28+Q28 -> 0 | D28: =F28+H28+J28+L28+N28+P28+R28 -> 0
A29: 5 | B29: Ataskaitos dieną į duomenų registrus įtrauktų asmenų skaičius(3-4), iš jų | C29: =E29+G29+I29+K29+M29+O29+Q29 -> 25 | D29: =F29+H29+J29+L29+N29+P29+R29 -> 3 | E29: =E25-E27 -> 1 | F29: =F25-F27 -> 0 | G29: =G25-G27 -> 4 | H29: =H25-H27 -> 0 | I29: =I25-I27 -> 15 | J29: =J25-J27 -> 3 | K29: =K25-K27 -> 0 | L29: =L25-L27 -> 0 | ... R29: =R25-R27 -> 0
A30: 5.1 | B30: iki 18 metų (3.1-4.1) | C30: =E30+G30+I30+K30+M30+O30+Q30 -> 0 | D30: =F30+H30+J30+L30+N30+P30+R30 -> 0 | E30: =E26-E28 -> 0 | F30: =F26-F28 -> 0 | G30: =G26-G28 -> 0 | H30: =H26-H28 -> 0 | I30: =I26-I28 -> 0 | J30: =J26-J28 -> 0 | K30: =K26-K28 -> 0 | L30: =L26-L28 -> 0 | ... R30: =R26-R28 -> 0
A31: 6 | B31: Asmenų, dalyvavusių smurtinį elgesį keičiančioje programoje, skaičius, iš jų² | C31: =E31+G31+I31+K31+M31+O31+Q31 -> 35 | D31: =F31+H31+J31+L31+N31+P31+R31 -> 8 | E31: 3 | G31: 1 | I31: 25 | J31: 7 | M31: 6 | N31: 1
A32: 6.1 | B32: iki 18 metų | C32: =E32+G32+I32+K32+M32+O32+Q32 -> 0 | D32: =F32+H32+J32+L32+N32+P32+R32 -> 0
A33: 7 | B33: Asmenų, išklausiusių smurtinį elgesį keičiančią programą,skaičius, iš jų | C33: =E33+G33+I33+K33+M33+O33+Q33 -> 14 | D33: =F33+H33+J33+L33+N33+P33+R33 -> 4 | E33: 2 | I33: 10 | J33: 4 | M33: 2
A34: 7.1 | B34: iki 18 metų | C34: =E34+G34+I34+K34+M34+O34+Q34 -> 0 | D34: =F34+H34+J34+L34+N34+P34+R34 -> 0
A35: Pastabos ir paaiškinimai:
B36: 1. 5 punkte pateikiami ataskaitos dienos duomenys, kituose punktuose − duomenys nuo metų pradžios didėjančia tvarka.
B37: 2. ¹ - asmenys, kurie buvo nuteisti už smurtą artimoje aplinkoje. Pagal Lietuvos Respublikos apsaugos nuo smurto artimoje aplinkoje įstatymą, artima aplinka - aplinka, kurią sudaro asmenys, siejami arba praeityje sieti santuokiniais, partnerystės, svainystės ar kitais artimais ryšiais, taip pat asmenys, kartu gyvenantys ir tvarkantys bendrą ūkį.
B38: 3. ² - asmenų, dalyvavusių programose, kurios konkrečiai skirtos smurtiniam elgesiui mažinti, skaičius.
B42: (pareigų pavadinimas) | N42: (vardas ir pavardė)

Sheet 1
A4: DARBO SU SMURTAUTOJAIS ARTIMOJE APLINKOJE, ESANČIAIS PAKRUOJO SAVIVALDYBĖS VEIKLOS TERITORIJOS PRIEŽIŪROJE, STATISTINĖ ATASKAITA
A7: 20 - - Nr. ___________
A9: 20 m. mėnesių duomenys
A11: Eil. Nr. | B11: Duomenų pavadinimas | C11: Asmenų skaičius | E11: Asmenys
E12: kuriems paskirta viešųjų darbų bausmė (BK 46 str.) | G12: kuriems paskirta laisvės apribojimo bausmė (BK 48 str.) | I12: kuriems paskirtos baudžiamojo poveikio priemonės (BK 69, 70, 72¹, 72² str.) | K12: kuriems skirtos auklėjamojo poveikio priemonės (BK 82 str.) | M12: kuriems bausmės vykdymas atidėtas (BK 75 str.) | O12: kuriems bausmės vykdymas atidėtas (BK 92 str.) | Q12: kurie lygtinai paleisti iš pataisos įstaigų (BVK 82 str.)
C19: iš viso | D19: moterų | E19: iš viso | F19: moterų | G19: iš viso | H19: moterų | I19: iš viso | J19: moterų | K19: iš viso | L19: moterų | M19: iš viso | N19: moterų | O19: iš viso | P19: moterų | Q19: iš viso | R19: moterų
A20: 1 | B20: 2 | C20: 3 | D20: 4 | E20: 5 | F20: 6 | G20: 7 | H20: 8 | I20: 9 | J20: 10 | K20: 11 | L20: 12 | M20: 13 | N20: 14 | O20: 15 | P20: 16 | Q20: 17 | R20: 18
A21: 1 | B21: Asmenų¹, įtrauktų į duomenų registrus, sausio 1 d. skaičius, iš jų | C21: =E21+G21+I21+K21+M21+O21+Q21 -> 0 | D21: =F21+H21+J21+L21+N21+P21+R21 -> 0
A22: 1.1 | B22: iki 18 metų | C22: =E22+G22+I22+K22+M22+O22+Q22 -> 0 | D22: =F22+H22+J22+L22+N22+P22+R22 -> 0
A23: 2 | B23: Asmenų, įtrauktų į duomenų registrus per ataskaitinį laikotarpį, skaičius, iš jų | C23: =E23+G23+I23+K23+M23+O23+Q23 -> 0 | D23: =F23+H23+J23+L23+N23+P23+R23 -> 0
A24: 2.1 | B24: iki 18 metų | C24: =E24+G24+I24+K24+M24+O24+Q24 -> 0 | D24: =F24+H24+J24+L24+N24+P24+R24 -> 0
A25: 3 | B25: Asmenų, kurie per ataskaitinį laikotarpį buvo įtraukti į duomenų registrus, skaičius (1+2), iš jų | C25: =E25+G25+I25+K25+M25+O25+Q25 -> 0 | D25: =F25+H25+J25+L25+N25+P25+R25 -> 0 | E25: =E21+E23 -> 0 | F25: =F21+F23 -> 0 | G25: =G21+G23 -> 0 | H25: =H21+H23 -> 0 | I25: =I21+I23 -> 0 | J25: =J21+J23 -> 0 | K25: =K21+K23 -> 0 | L25: =L21+L23 -> 0 | ... R25: =R21+R23 -> 0
A26: 3.1 | B26: iki 18 metų (1.1+2.1) | C26: =E26+G26+I26+K26+M26+O26+Q26 -> 0 | D26: =F26+H26+J26+L26+N26+P26+R26 -> 0 | E26: =E22+E24 -> 0 | F26: =F22+F24 -> 0 | G26: =G22+G24 -> 0 | H26: =H22+H24 -> 0 | I26: =I22+I24 -> 0 | J26: =J22+J24 -> 0 | K26: =K22+K24 -> 0 | L26: =L22+L24 -> 0 | ... R26: =R22+R24 -> 0
A27: 4 | B27: Asmenų, kurie per ataskaitinį laikotarpį buvo išregistruoti iš duomenų registrų, skaičius, iš jų | C27: =E27+G27+I27+K27+M27+O27+Q27 -> 0 | D27: =F27+H27+J27+L27+N27+P27+R27 -> 0
A28: 4.1 | B28: iki 18 metų | C28: =E28+G28+I28+K28+M28+O28+Q28 -> 0 | D28: =F28+H28+J28+L28+N28+P28+R28 -> 0
A29: 5 | B29: Ataskaitos dieną į duomenų registrus įtrauktų asmenų skaičius(3-4), iš jų | C29: =E29+G29+I29+K29+M29+O29+Q29 -> 0 | D29: =F29+H29+J29+L29+N29+P29+R29 -> 0 | E29: =E25-E27 -> 0 | F29: =F25-F27 -> 0 | G29: =G25-G27 -> 0 | H29: =H25-H27 -> 0 | I29: =I25-I27 -> 0 | J29: =J25-J27 -> 0 | K29: =K25-K27 -> 0 | L29: =L25-L27 -> 0 | ... R29: =R25-R27 -> 0
A30: 5.1 | B30: iki 18 metų (3.1-4.1) | C30: =E30+G30+I30+K30+M30+O30+Q30 -> 0 | D30: =F30+H30+J30+L30+N30+P30+R30 -> 0 | E30: =E26-E28 -> 0 | F30: =F26-F28 -> 0 | G30: =G26-G28 -> 0 | H30: =H26-H28 -> 0 | I30: =I26-I28 -> 0 | J30: =J26-J28 -> 0 | K30: =K26-K28 -> 0 | L30: =L26-L28 -> 0 | ... R30: =R26-R28 -> 0
A31: 6 | B31: Asmenų, dalyvavusių smurtinį elgesį keičiančioje programoje, skaičius, iš jų² | C31: =E31+G31+I31+K31+M31+O31+Q31 -> 0 | D31: =F31+H31+J31+L31+N31+P31+R31 -> 0
A32: 6.1 | B32: iki 18 metų | C32: =E32+G32+I32+K32+M32+O32+Q32 -> 0 | D32: =F32+H32+J32+L32+N32+P32+R32 -> 0
A33: 7 | B33: Asmenų, išklausiusių smurtinį elgesį keičiančią programą,skaičius, iš jų | C33: =E33+G33+I33+K33+M33+O33+Q33 -> 0 | D33: =F33+H33+J33+L33+N33+P33+R33 -> 0
A34: 7.1 | B34: iki 18 metų | C34: =E34+G34+I34+K34+M34+O34+Q34 -> 0 | D34: =F34+H34+J34+L34+N34+P34+R34 -> 0
A35: Pastabos ir paaiškinimai:
B36: 1. 5 punkte pateikiami ataskaitos dienos duomenys, kituose punktuose − duomenys nuo metų pradžios didėjančia tvarka.
B37: 2. ¹ - asmenys, kurie buvo nuteisti už smurtą artimoje aplinkoje. Pagal Lietuvos Respublikos apsaugos nuo smurto artimoje aplinkoje įstatymą, artima aplinka - aplinka, kurią sudaro asmenys, siejami arba praeityje sieti santuokiniais, partnerystės, svainystės ar kitais artimais ryšiais, taip pat asmenys, kartu gyvenantys ir tvarkantys bendrą ūkį.
B38: 3. ² - asmenų, dalyvavusių programose, kurios konkrečiai skirtos smurtiniam elgesiui mažinti, skaičius.
B42: (pareigų pavadinimas) | N42: (vardas ir pavardė)

Sheet 2
A4: DARBO SU SMURTAUTOJAIS ARTIMOJE APLINKOJE, ESANČIAIS AKMENĖS RAJONO SAVIVALDYBĖS VEIKLOS TERITORIJOS PRIEŽIŪROJE, STATISTINĖ ATASKAITA
A7: 20 - - Nr. ___________
A9: 20 25 m. sausio - birželio mėnesių duomenys
A11: Eil. Nr. | B11: Duomenų pavadinimas | C11: Asmenų skaičius | E11: Asmenys
E12: kuriems paskirta viešųjų darbų bausmė (BK 46 str.) | G12: kuriems paskirta laisvės apribojimo bausmė (BK 48 str.) | I12: kuriems paskirtos baudžiamojo poveikio priemonės (BK 69, 70, 72¹, 72² str.) | K12: kuriems skirtos auklėjamojo poveikio priemonės (BK 82 str.) | M12: kuriems bausmės vykdymas atidėtas (BK 75 str.) | O12: kuriems bausmės vykdymas atidėtas (BK 92 str.) | Q12: kurie lygtinai paleisti iš pataisos įstaigų (BVK 82 str.)
C19: iš viso | D19: moterų | E19: iš viso | F19: moterų | G19: iš viso | H19: moterų | I19: iš viso | J19: moterų | K19: iš viso | L19: moterų | M19: iš viso | N19: moterų | O19: iš viso | P19: moterų | Q19: iš viso | R19: moterų
A20: 1 | B20: 2 | C20: 3 | D20: 4 | E20: 5 | F20: 6 | G20: 7 | H20: 8 | I20: 9 | J20: 10 | K20: 11 | L20: 12 | M20: 13 | N20: 14 | O20: 15 | P20: 16 | Q20: 17 | R20: 18
A21: 1 | B21: Asmenų¹, įtrauktų į duomenų registrus, sausio 1 d. skaičius, iš jų | C21: =E21+G21+I21+K21+M21+O21+Q21 -> 0 | D21: =F21+H21+J21+L21+N21+P21+R21 -> 0
A22: 1.1 | B22: iki 18 metų | C22: =E22+G22+I22+K22+M22+O22+Q22 -> 0 | D22: =F22+H22+J22+L22+N22+P22+R22 -> 0
A23: 2 | B23: Asmenų, įtrauktų į duomenų registrus per ataskaitinį laikotarpį, skaičius, iš jų | C23: =E23+G23+I23+K23+M23+O23+Q23 -> 0 | D23: =F23+H23+J23+L23+N23+P23+R23 -> 0
A24: 2.1 | B24: iki 18 metų | C24: =E24+G24+I24+K24+M24+O24+Q24 -> 0 | D24: =F24+H24+J24+L24+N24+P24+R24 -> 0
A25: 3 | B25: Asmenų, kurie per ataskaitinį laikotarpį buvo įtraukti į duomenų registrus, skaičius (1+2), iš jų | C25: =E25+G25+I25+K25+M25+O25+Q25 -> 0 | D25: =F25+H25+J25+L25+N25+P25+R25 -> 0 | E25: =E21+E23 -> 0 | F25: =F21+F23 -> 0 | G25: =G21+G23 -> 0 | H25: =H21+H23 -> 0 | I25: =I21+I23 -> 0 | J25: =J21+J23 -> 0 | K25: =K21+K23 -> 0 | L25: =L21+L23 -> 0 | ... R25: =R21+R23 -> 0
A26: 3.1 | B26: iki 18 metų (1.1+2.1) | C26: =E26+G26+I26+K26+M26+O26+Q26 -> 0 | D26: =F26+H26+J26+L26+N26+P26+R26 -> 0 | E26: =E22+E24 -> 0 | F26: =F22+F24 -> 0 | G26: =G22+G24 -> 0 | H26: =H22+H24 -> 0 | I26: =I22+I24 -> 0 | J26: =J22+J24 -> 0 | K26: =K22+K24 -> 0 | L26: =L22+L24 -> 0 | ... R26: =R22+R24 -> 0
A27: 4 | B27: Asmenų, kurie per ataskaitinį laikotarpį buvo išregistruoti iš duomenų registrų, skaičius, iš jų | C27: =E27+G27+I27+K27+M27+O27+Q27 -> 0 | D27: =F27+H27+J27+L27+N27+P27+R27 -> 0
A28: 4.1 | B28: iki 18 metų | C28: =E28+G28+I28+K28+M28+O28+Q28 -> 0 | D28: =F28+H28+J28+L28+N28+P28+R28 -> 0
A29: 5 | B29: Ataskaitos dieną į duomenų registrus įtrauktų asmenų skaičius(3-4), iš jų | C29: =E29+G29+I29+K29+M29+O29+Q29 -> 0 | D29: =F29+H29+J29+L29+N29+P29+R29 -> 0 | E29: =E25-E27 -> 0 | F29: =F25-F27 -> 0 | G29: =G25-G27 -> 0 | H29: =H25-H27 -> 0 | I29: =I25-I27 -> 0 | J29: =J25-J27 -> 0 | K29: =K25-K27 -> 0 | L29: =L25-L27 -> 0 | ... R29: =R25-R27 -> 0
A30: 5.1 | B30: iki 18 metų (3.1-4.1) | C30: =E30+G30+I30+K30+M30+O30+Q30 -> 0 | D30: =F30+H30+J30+L30+N30+P30+R30 -> 0 | E30: =E26-E28 -> 0 | F30: =F26-F28 -> 0 | G30: =G26-G28 -> 0 | H30: =H26-H28 -> 0 | I30: =I26-I28 -> 0 | J30: =J26-J28 -> 0 | K30: =K26-K28 -> 0 | L30: =L26-L28 -> 0 | ... R30: =R26-R28 -> 0
A31: 6 | B31: Asmenų, dalyvavusių smurtinį elgesį keičiančioje programoje, skaičius, iš jų² | C31: =E31+G31+I31+K31+M31+O31+Q31 -> 0 | D31: =F31+H31+J31+L31+N31+P31+R31 -> 0
A32: 6.1 | B32: iki 18 metų | C32: =E32+G32+I32+K32+M32+O32+Q32 -> 0 | D32: =F32+H32+J32+L32+N32+P32+R32 -> 0
A33: 7 | B33: Asmenų, išklausiusių smurtinį elgesį keičiančią programą,skaičius, iš jų | C33: =E33+G33+I33+K33+M33+O33+Q33 -> 0 | D33: =F33+H33+J33+L33+N33+P33+R33 -> 0
A34: 7.1 | B34: iki 18 metų | C34: =E34+G34+I34+K34+M34+O34+Q34 -> 0 | D34: =F34+H34+J34+L34+N34+P34+R34 -> 0
A35: Pastabos ir paaiškinimai:
B36: 1. 5 punkte pateikiami ataskaitos dienos duomenys, kituose punktuose − duomenys nuo metų pradžios didėjančia tvarka.
B37: 2. ¹ - asmenys, kurie buvo nuteisti už smurtą artimoje aplinkoje. Pagal Lietuvos Respublikos apsaugos nuo smurto artimoje aplinkoje įstatymą, artima aplinka - aplinka, kurią sudaro asmenys, siejami arba praeityje sieti santuokiniais, partnerystės, svainystės ar kitais artimais ryšiais, taip pat asmenys, kartu gyvenantys ir tvarkantys bendrą ūkį.
B38: 3. ² - asmenų, dalyvavusių programose, kurios konkrečiai skirtos smurtiniam elgesiui mažinti, skaičius.
B42: (pareigų pavadinimas) | N42: (vardas ir pavardė)

Sheet 3
A4: DARBO SU SMURTAUTOJAIS ARTIMOJE APLINKOJE, ESANČIAIS MAŽEIKIŲ RAJONO SAVIVALDYBĖS VEIKLOS TERITORIJOS PRIEŽIŪROJE, STATISTINĖ ATASKAITA
A7: 20 - - Nr. ___________
A9: 2025 m. sausio - kovo mėnesių duomenys
A11: Eil. Nr. | B11: Duomenų pavadinimas | C11: Asmenų skaičius | E11: Asmenys
E12: kuriems paskirta viešųjų darbų bausmė (BK 46 str.) | G12: kuriems paskirta laisvės apribojimo bausmė (BK 48 str.) | I12: kuriems paskirtos baudžiamojo poveikio priemonės (BK 69, 70, 72¹, 72² str.) | K12: kuriems skirtos auklėjamojo poveikio priemonės (BK 82 str.) | M12: kuriems bausmės vykdymas atidėtas (BK 75 str.) | O12: kuriems bausmės vykdymas atidėtas (BK 92 str.) | Q12: kurie lygtinai paleisti iš pataisos įstaigų (BVK 82 str.)
C19: iš viso | D19: moterų | E19: iš viso | F19: moterų | G19: iš viso | H19: moterų | I19: iš viso | J19: moterų | K19: iš viso | L19: moterų | M19: iš viso | N19: moterų | O19: iš viso | P19: moterų | Q19: iš viso | R19: moterų
A20: 1 | B20: 2 | C20: 3 | D20: 4 | E20: 5 | F20: 6 | G20: 7 | H20: 8 | I20: 9 | J20: 10 | K20: 11 | L20: 12 | M20: 13 | N20: 14 | O20: 15 | P20: 16 | Q20: 17 | R20: 18
A21: 1 | B21: Asmenų¹, įtrauktų į duomenų registrus, sausio 1 d. skaičius, iš jų | C21: =E21+G21+I21+K21+M21+O21+Q21 -> 0 | D21: =F21+H21+J21+L21+N21+P21+R21 -> 0
A22: 1.1 | B22: iki 18 metų | C22: =E22+G22+I22+K22+M22+O22+Q22 -> 0 | D22: =F22+H22+J22+L22+N22+P22+R22 -> 0
A23: 2 | B23: Asmenų, įtrauktų į duomenų registrus per ataskaitinį laikotarpį, skaičius, iš jų | C23: =E23+G23+I23+K23+M23+O23+Q23 -> 0 | D23: =F23+H23+J23+L23+N23+P23+R23 -> 0
A24: 2.1 | B24: iki 18 metų | C24: =E24+G24+I24+K24+M24+O24+Q24 -> 0 | D24: =F24+H24+J24+L24+N24+P24+R24 -> 0
A25: 3 | B25: Asmenų, kurie per ataskaitinį laikotarpį buvo įtraukti į duomenų registrus, skaičius (1+2), iš jų | C25: =E25+G25+I25+K25+M25+O25+Q25 -> 0 | D25: =F25+H25+J25+L25+N25+P25+R25 -> 0 | E25: =E21+E23 -> 0 | F25: =F21+F23 -> 0 | G25: =G21+G23 -> 0 | H25: =H21+H23 -> 0 | I25: =I21+I23 -> 0 | J25: =J21+J23 -> 0 | K25: =K21+K23 -> 0 | L25: =L21+L23 -> 0 | ... R25: =R21+R23 -> 0
A26: 3.1 | B26: iki 18 metų (1.1+2.1) | C26: =E26+G26+I26+K26+M26+O26+Q26 -> 0 | D26: =F26+H26+J26+L26+N26+P26+R26 -> 0 | E26: =E22+E24 -> 0 | F26: =F22+F24 -> 0 | G26: =G22+G24 -> 0 | H26: =H22+H24 -> 0 | I26: =I22+I24 -> 0 | J26: =J22+J24 -> 0 | K26: =K22+K24 -> 0 | L26: =L22+L24 -> 0 | ... R26: =R22+R24 -> 0
A27: 4 | B27: Asmenų, kurie per ataskaitinį laikotarpį buvo išregistruoti iš duomenų registrų, skaičius, iš jų | C27: =E27+G27+I27+K27+M27+O27+Q27 -> 0 | D27: =F27+H27+J27+L27+N27+P27+R27 -> 0
A28: 4.1 | B28: iki 18 metų | C28: =E28+G28+I28+K28+M28+O28+Q28 -> 0 | D28: =F28+H28+J28+L28+N28+P28+R28 -> 0
A29: 5 | B29: Ataskaitos dieną į duomenų registrus įtrauktų asmenų skaičius(3-4), iš jų | C29: =E29+G29+I29+K29+M29+O29+Q29 -> 0 | D29: =F29+H29+J29+L29+N29+P29+R29 -> 0 | E29: =E25-E27 -> 0 | F29: =F25-F27 -> 0 | G29: =G25-G27 -> 0 | H29: =H25-H27 -> 0 | I29: =I25-I27 -> 0 | J29: =J25-J27 -> 0 | K29: =K25-K27 -> 0 | L29: =L25-L27 -> 0 | ... R29: =R25-R27 -> 0
A30: 5.1 | B30: iki 18 metų (3.1-4.1) | C30: =E30+G30+I30+K30+M30+O30+Q30 -> 0 | D30: =F30+H30+J30+L30+N30+P30+R30 -> 0 | E30: =E26-E28 -> 0 | F30: =F26-F28 -> 0 | G30: =G26-G28 -> 0 | H30: =H26-H28 -> 0 | I30: =I26-I28 -> 0 | J30: =J26-J28 -> 0 | K30: =K26-K28 -> 0 | L30: =L26-L28 -> 0 | ... R30: =R26-R28 -> 0
A31: 6 | B31: Asmenų, dalyvavusių smurtinį elgesį keičiančioje programoje, skaičius, iš jų² | C31: =E31+G31+I31+K31+M31+O31+Q31 -> 0 | D31: =F31+H31+J31+L31+N31+P31+R31 -> 0
A32: 6.1 | B32: iki 18 metų | C32: =E32+G32+I32+K32+M32+O32+Q32 -> 0 | D32: =F32+H32+J32+L32+N32+P32+R32 -> 0
A33: 7 | B33: Asmenų, išklausiusių smurtinį elgesį keičiančią programą,skaičius, iš jų | C33: =E33+G33+I33+K33+M33+O33+Q33 -> 0 | D33: =F33+H33+J33+L33+N33+P33+R33 -> 0
A34: 7.1 | B34: iki 18 metų | C34: =E34+G34+I34+K34+M34+O34+Q34 -> 0 | D34: =F34+H34+J34+L34+N34+P34+R34 -> 0
A35: Pastabos ir paaiškinimai:
B36: 1. 5 punkte pateikiami ataskaitos dienos duomenys, kituose punktuose − duomenys nuo metų pradžios didėjančia tvarka.
B37: 2. ¹ - asmenys, kurie buvo nuteisti už smurtą artimoje aplinkoje. Pagal Lietuvos Respublikos apsaugos nuo smurto artimoje aplinkoje įstatymą, artima aplinka - aplinka, kurią sudaro asmenys, siejami arba praeityje sieti santuokiniais, partnerystės, svainystės ar kitais artimais ryšiais, taip pat asmenys, kartu gyvenantys ir tvarkantys bendrą ūkį.
B38: 3. ² - asmenų, dalyvavusių programose, kurios konkrečiai skirtos smurtiniam elgesiui mažinti, skaičius.
B42: (pareigų pavadinimas) | N42: (vardas ir pavardė)

Sheet 4
A4: DARBO SU SMURTAUTOJAIS ARTIMOJE APLINKOJE, ESANČIAIS TELŠIŲ RAJONO SAVIVALDYBĖS VEIKLOS TERITORIJOS PRIEŽIŪROJE, STATISTINĖ ATASKAITA
A8: 20 - - Nr. ___________
A10: 20 m. mėnesių duomenys
A11: Eil. Nr. | B11: Duomenų pavadinimas | C11: Asmenų skaičius | E11: Asmenys
E12: kuriems paskirta viešųjų darbų bausmė (BK 46 str.) | G12: kuriems paskirta laisvės apribojimo bausmė (BK 48 str.) | I12: kuriems paskirtos baudžiamojo poveikio priemonės (BK 69, 70, 72¹, 72² str.) | K12: kuriems skirtos auklėjamojo poveikio priemonės (BK 82 str.) | M12: kuriems bausmės vykdymas atidėtas (BK 75 str.) | O12: kuriems bausmės vykdymas atidėtas (BK 92 str.) | Q12: kurie lygtinai paleisti iš pataisos įstaigų (BVK 82 str.)
C19: iš viso | D19: moterų | E19: iš viso | F19: moterų | G19: iš viso | H19: moterų | I19: iš viso | J19: moterų | K19: iš viso | L19: moterų | M19: iš viso | N19: moterų | O19: iš viso | P19: moterų | Q19: iš viso | R19: moterų
A20: 1 | B20: 2 | C20: 3 | D20: 4 | E20: 5 | F20: 6 | G20: 7 | H20: 8 | I20: 9 | J20: 10 | K20: 11 | L20: 12 | M20: 13 | N20: 14 | O20: 15 | P20: 16 | Q20: 17 | R20: 18
A21: 1 | B21: Asmenų¹, įtrauktų į duomenų registrus, sausio 1 d. skaičius, iš jų | C21: =E21+G21+I21+K21+M21+O21+Q21 -> 0 | D21: =F21+H21+J21+L21+N21+P21+R21 -> 0
A22: 1.1 | B22: iki 18 metų | C22: =E22+G22+I22+K22+M22+O22+Q22 -> 0 | D22: =F22+H22+J22+L22+N22+P22+R22 -> 0
A23: 2 | B23: Asmenų, įtrauktų į duomenų registrus per ataskaitinį laikotarpį, skaičius, iš jų | C23: =E23+G23+I23+K23+M23+O23+Q23 -> 0 | D23: =F23+H23+J23+L23+N23+P23+R23 -> 0
A24: 2.1 | B24: iki 18 metų | C24: =E24+G24+I24+K24+M24+O24+Q24 -> 0 | D24: =F24+H24+J24+L24+N24+P24+R24 -> 0
A25: 3 | B25: Asmenų, kurie per ataskaitinį laikotarpį buvo įtraukti į duomenų registrus, skaičius (1+2), iš jų | C25: =E25+G25+I25+K25+M25+O25+Q25 -> 0 | D25: =F25+H25+J25+L25+N25+P25+R25 -> 0 | E25: =E21+E23 -> 0 | F25: =F21+F23 -> 0 | G25: =G21+G23 -> 0 | H25: =H21+H23 -> 0 | I25: =I21+I23 -> 0 | J25: =J21+J23 -> 0 | K25: =K21+K23 -> 0 | L25: =L21+L23 -> 0 | ... R25: =R21+R23 -> 0
A26: 3.1 | B26: iki 18 metų (1.1+2.1) | C26: =E26+G26+I26+K26+M26+O26+Q26 -> 0 | D26: =F26+H26+J26+L26+N26+P26+R26 -> 0 | E26: =E22+E24 -> 0 | F26: =F22+F24 -> 0 | G26: =G22+G24 -> 0 | H26: =H22+H24 -> 0 | I26: =I22+I24 -> 0 | J26: =J22+J24 -> 0 | K26: =K22+K24 -> 0 | L26: =L22+L24 -> 0 | ... R26: =R22+R24 -> 0
A27: 4 | B27: Asmenų, kurie per ataskaitinį laikotarpį buvo išregistruoti iš duomenų registrų, skaičius, iš jų | C27: =E27+G27+I27+K27+M27+O27+Q27 -> 0 | D27: =F27+H27+J27+L27+N27+P27+R27 -> 0
A28: 4.1 | B28: iki 18 metų | C28: =E28+G28+I28+K28+M28+O28+Q28 -> 0 | D28: =F28+H28+J28+L28+N28+P28+R28 -> 0
A29: 5 | B29: Ataskaitos dieną į duomenų registrus įtrauktų asmenų skaičius(3-4), iš jų | C29: =E29+G29+I29+K29+M29+O29+Q29 -> 0 | D29: =F29+H29+J29+L29+N29+P29+R29 -> 0 | E29: =E25-E27 -> 0 | F29: =F25-F27 -> 0 | G29: =G25-G27 -> 0 | H29: =H25-H27 -> 0 | I29: =I25-I27 -> 0 | J29: =J25-J27 -> 0 | K29: =K25-K27 -> 0 | L29: =L25-L27 -> 0 | ... R29: =R25-R27 -> 0
A30: 5.1 | B30: iki 18 metų (3.1-4.1) | C30: =E30+G30+I30+K30+M30+O30+Q30 -> 0 | D30: =F30+H30+J30+L30+N30+P30+R30 -> 0 | E30: =E26-E28 -> 0 | F30: =F26-F28 -> 0 | G30: =G26-G28 -> 0 | H30: =H26-H28 -> 0 | I30: =I26-I28 -> 0 | J30: =J26-J28 -> 0 | K30: =K26-K28 -> 0 | L30: =L26-L28 -> 0 | ... R30: =R26-R28 -> 0
A31: 6 | B31: Asmenų, dalyvavusių smurtinį elgesį keičiančioje programoje, skaičius, iš jų² | C31: =E31+G31+I31+K31+M31+O31+Q31 -> 0 | D31: =F31+H31+J31+L31+N31+P31+R31 -> 0
A32: 6.1 | B32: iki 18 metų | C32: =E32+G32+I32+K32+M32+O32+Q32 -> 0 | D32: =F32+H32+J32+L32+N32+P32+R32 -> 0
A33: 7 | B33: Asmenų, išklausiusių smurtinį elgesį keičiančią programą,skaičius, iš jų | C33: =E33+G33+I33+K33+M33+O33+Q33 -> 0 | D33: =F33+H33+J33+L33+N33+P33+R33 -> 0
A34: 7.1 | B34: iki 18 metų | C34: =E34+G34+I34+K34+M34+O34+Q34 -> 0 | D34: =F34+H34+J34+L34+N34+P34+R34 -> 0
A35: Pastabos ir paaiškinimai:
B36: 1. 5 punkte pateikiami ataskaitos dienos duomenys, kituose punktuose − duomenys nuo metų pradžios didėjančia tvarka.
B37: 2. ¹ - asmenys, kurie buvo nuteisti už smurtą artimoje aplinkoje. Pagal Lietuvos Respublikos apsaugos nuo smurto artimoje aplinkoje įstatymą, artima aplinka - aplinka, kurią sudaro asmenys, siejami arba praeityje sieti santuokiniais, partnerystės, svainystės ar kitais artimais ryšiais, taip pat asmenys, kartu gyvenantys ir tvarkantys bendrą ūkį.
B38: 3. ² - asmenų, dalyvavusių programose, kurios konkrečiai skirtos smurtiniam elgesiui mažinti, skaičius.
B42: (pareigų pavadinimas) | N42: (vardas ir pavardė)

Sheet 5
A4: DARBO SU SMURTAUTOJAIS ARTIMOJE APLINKOJE, ESANČIAIS LIETUVOS PROBACIJOS TARNYBOS VAKARŲ LIETUVOS SKYRIAUS PRIEŽIŪROJE, STATISTINĖ ATASKAITA
A7: 20 - - Nr. ___________
A9: 20 m. mėnesių duomenys
A11: Eil. Nr. | B11: Duomenų pavadinimas | C11: Asmenų skaičius | E11: Asmenys
E12: kuriems paskirta viešųjų darbų bausmė (BK 46 str.) | G12: kuriems paskirta laisvės apribojimo bausmė (BK 48 str.) | I12: kuriems paskirtos baudžiamojo poveikio priemonės (BK 69, 70, 72¹, 72² str.) | K12: kuriems skirtos auklėjamojo poveikio priemonės (BK 82 str.) | M12: kuriems bausmės vykdymas atidėtas (BK 75 str.) | O12: kuriems bausmės vykdymas atidėtas (BK 92 str.) | Q12: kurie lygtinai paleisti iš pataisos įstaigų (BVK 82 str.)
C19: iš viso | D19: moterų | E19: iš viso | F19: moterų | G19: iš viso | H19: moterų | I19: iš viso | J19: moterų | K19: iš viso | L19: moterų | M19: iš viso | N19: moterų | O19: iš viso | P19: moterų | Q19: iš viso | R19: moterų
A20: 1 | B20: 2 | C20: 3 | D20: 4 | E20: 5 | F20: 6 | G20: 7 | H20: 8 | I20: 9 | J20: 10 | K20: 11 | L20: 12 | M20: 13 | N20: 14 | O20: 15 | P20: 16 | Q20: 17 | R20: 18
A21: 1 | B21: Asmenų¹, įtrauktų į duomenų registrus, sausio 1 d. skaičius, iš jų | C21: =E21+G21+I21+K21+M21+O21+Q21 -> 0 | D21: =F21+H21+J21+L21+N21+P21+R21 -> 0
A22: 1.1 | B22: iki 18 metų | C22: =E22+G22+I22+K22+M22+O22+Q22 -> 0 | D22: =F22+H22+J22+L22+N22+P22+R22 -> 0
A23: 2 | B23: Asmenų, įtrauktų į duomenų registrus per ataskaitinį laikotarpį, skaičius, iš jų | C23: =E23+G23+I23+K23+M23+O23+Q23 -> 0 | D23: =F23+H23+J23+L23+N23+P23+R23 -> 0
A24: 2.1 | B24: iki 18 metų | C24: =E24+G24+I24+K24+M24+O24+Q24 -> 0 | D24: =F24+H24+J24+L24+N24+P24+R24 -> 0
A25: 3 | B25: Asmenų, kurie per ataskaitinį laikotarpį buvo įtraukti į duomenų registrus, skaičius (1+2), iš jų | C25: =E25+G25+I25+K25+M25+O25+Q25 -> 0 | D25: =F25+H25+J25+L25+N25+P25+R25 -> 0 | E25: =E21+E23 -> 0 | F25: =F21+F23 -> 0 | G25: =G21+G23 -> 0 | H25: =H21+H23 -> 0 | I25: =I21+I23 -> 0 | J25: =J21+J23 -> 0 | K25: =K21+K23 -> 0 | L25: =L21+L23 -> 0 | ... R25: =R21+R23 -> 0
A26: 3.1 | B26: iki 18 metų (1.1+2.1) | C26: =E26+G26+I26+K26+M26+O26+Q26 -> 0 | D26: =F26+H26+J26+L26+N26+P26+R26 -> 0 | E26: =E22+E24 -> 0 | F26: =F22+F24 -> 0 | G26: =G22+G24 -> 0 | H26: =H22+H24 -> 0 | I26: =I22+I24 -> 0 | J26: =J22+J24 -> 0 | K26: =K22+K24 -> 0 | L26: =L22+L24 -> 0 | ... R26: =R22+R24 -> 0
A27: 4 | B27: Asmenų, kurie per ataskaitinį laikotarpį buvo išregistruoti iš duomenų registrų, skaičius, iš jų | C27: =E27+G27+I27+K27+M27+O27+Q27 -> 0 | D27: =F27+H27+J27+L27+N27+P27+R27 -> 0 | R27: 0
A28: 4.1 | B28: iki 18 metų | C28: =E28+G28+I28+K28+M28+O28+Q28 -> 0 | D28: =F28+H28+J28+L28+N28+P28+R28 -> 0
A29: 5 | B29: Ataskaitos dieną į duomenų registrus įtrauktų asmenų skaičius(3-4), iš jų | C29: =E29+G29+I29+K29+M29+O29+Q29 -> 0 | D29: =F29+H29+J29+L29+N29+P29+R29 -> 0 | E29: =E25-E27 -> 0 | F29: =F25-F27 -> 0 | G29: =G25-G27 -> 0 | H29: =H25-H27 -> 0 | I29: =I25-I27 -> 0 | J29: =J25-J27 -> 0 | K29: =K25-K27 -> 0 | L29: =L25-L27 -> 0 | ... R29: =R25-R27 -> 0
A30: 5.1 | B30: iki 18 metų (3.1-4.1) | C30: =E30+G30+I30+K30+M30+O30+Q30 -> 0 | D30: =F30+H30+J30+L30+N30+P30+R30 -> 0 | E30: =E26-E28 -> 0 | F30: =F26-F28 -> 0 | G30: =G26-G28 -> 0 | H30: =H26-H28 -> 0 | I30: =I26-I28 -> 0 | J30: =J26-J28 -> 0 | K30: =K26-K28 -> 0 | L30: =L26-L28 -> 0 | ... R30: =R26-R28 -> 0
A31: 6 | B31: Asmenų, dalyvavusių smurtinį elgesį keičiančioje programoje, skaičius, iš jų² | C31: =E31+G31+I31+K31+M31+O31+Q31 -> 0 | D31: =F31+H31+J31+L31+N31+P31+R31 -> 0
A32: 6.1 | B32: iki 18 metų | C32: =E32+G32+I32+K32+M32+O32+Q32 -> 0 | D32: =F32+H32+J32+L32+N32+P32+R32 -> 0
A33: 7 | B33: Asmenų, išklausiusių smurtinį elgesį keičiančią programą,skaičius, iš jų | C33: =E33+G33+I33+K33+M33+O33+Q33 -> 0 | D33: =F33+H33+J33+L33+N33+P33+R33 -> 0
A34: 7.1 | B34: iki 18 metų | C34: =E34+G34+I34+K34+M34+O34+Q34 -> 0 | D34: =F34+H34+J34+L34+N34+P34+R34 -> 0
A35: Pastabos ir paaiškinimai:
B36: 1. 5 punkte pateikiami ataskaitos dienos duomenys, kituose punktuose − duomenys nuo metų pradžios didėjančia tvarka.
B37: 2. ¹ - asmenys, kurie buvo nuteisti už smurtą artimoje aplinkoje. Pagal Lietuvos Respublikos apsaugos nuo smurto artimoje aplinkoje įstatymą, artima aplinka - aplinka, kurią sudaro asmenys, siejami arba praeityje sieti santuokiniais, partnerystės, svainystės ar kitais artimais ryšiais, taip pat asmenys, kartu gyvenantys ir tvarkantys bendrą ūkį.
B38: 3. ² - asmenų, dalyvavusių programose, kurios konkrečiai skirtos smurtiniam elgesiui mažinti, skaičius.
B42: (pareigų pavadinimas) | N42: (vardas ir pavardė)

Sheet 6
A4: DARBO SU SMURTAUTOJAIS ARTIMOJE APLINKOJE, ESANČIAIS PRIEŽIŪROJE, STATISTINĖ ATASKAITA
A7: 20 - - Nr. ___________
A9: 20 m. mėnesių duomenys
A11: Eil. Nr. | B11: Duomenų pavadinimas | C11: Asmenų skaičius | E11: Asmenys
E12: kuriems paskirta viešųjų darbų bausmė (BK 46 str.) | G12: kuriems paskirta laisvės apribojimo bausmė (BK 48 str.) | I12: kuriems paskirtos baudžiamojo poveikio priemonės (BK 69, 70, 72¹, 72² str.) | K12: kuriems skirtos auklėjamojo poveikio priemonės (BK 82 str.) | M12: kuriems bausmės vykdymas atidėtas (BK 75 str.) | O12: kuriems bausmės vykdymas atidėtas (BK 92 str.) | Q12: kurie lygtinai paleisti iš pataisos įstaigų (BVK 82 str.)
C19: iš viso | D19: moterų | E19: iš viso | F19: moterų | G19: iš viso | H19: moterų | I19: iš viso | J19: moterų | K19: iš viso | L19: moterų | M19: iš viso | N19: moterų | O19: iš viso | P19: moterų | Q19: iš viso | R19: moterų
A20: 1 | B20: 2 | C20: 3 | D20: 4 | E20: 5 | F20: 6 | G20: 7 | H20: 8 | I20: 9 | J20: 10 | K20: 11 | L20: 12 | M20: 13 | N20: 14 | O20: 15 | P20: 16 | Q20: 17 | R20: 18
A21: 1 | B21: Asmenų¹, įtrauktų į duomenų registrus, sausio 1 d. skaičius, iš jų | C21: =E21+G21+I21+K21+M21+O21+Q21 -> 0 | D21: =F21+H21+J21+L21+N21+P21+R21 -> 0
A22: 1.1 | B22: iki 18 metų | C22: =E22+G22+I22+K22+M22+O22+Q22 -> 0 | D22: =F22+H22+J22+L22+N22+P22+R22 -> 0
A23: 2 | B23: Asmenų, įtrauktų į duomenų registrus per ataskaitinį laikotarpį, skaičius, iš jų | C23: =E23+G23+I23+K23+M23+O23+Q23 -> 0 | D23: =F23+H23+J23+L23+N23+P23+R23 -> 0
A24: 2.1 | B24: iki 18 metų | C24: =E24+G24+I24+K24+M24+O24+Q24 -> 0 | D24: =F24+H24+J24+L24+N24+P24+R24 -> 0
A25: 3 | B25: Asmenų, kurie per ataskaitinį laikotarpį buvo įtraukti į duomenų registrus, skaičius (1+2), iš jų | C25: =E25+G25+I25+K25+M25+O25+Q25 -> 0 | D25: =F25+H25+J25+L25+N25+P25+R25 -> 0 | E25: =E21+E23 -> 0 | F25: =F21+F23 -> 0 | G25: =G21+G23 -> 0 | H25: =H21+H23 -> 0 | I25: =I21+I23 -> 0 | J25: =J21+J23 -> 0 | K25: =K21+K23 -> 0 | L25: =L21+L23 -> 0 | ... R25: =R21+R23 -> 0
A26: 3.1 | B26: iki 18 metų (1.1+2.1) | C26: =E26+G26+I26+K26+M26+O26+Q26 -> 0 | D26: =F26+H26+J26+L26+N26+P26+R26 -> 0 | E26: =E22+E24 -> 0 | F26: =F22+F24 -> 0 | G26: =G22+G24 -> 0 | H26: =H22+H24 -> 0 | I26: =I22+I24 -> 0 | J26: =J22+J24 -> 0 | K26: =K22+K24 -> 0 | L26: =L22+L24 -> 0 | ... R26: =R22+R24 -> 0
A27: 4 | B27: Asmenų, kurie per ataskaitinį laikotarpį buvo išregistruoti iš duomenų registrų, skaičius, iš jų | C27: =E27+G27+I27+K27+M27+O27+Q27 -> 0 | D27: =F27+H27+J27+L27+N27+P27+R27 -> 0
A28: 4.1 | B28: iki 18 metų | C28: =E28+G28+I28+K28+M28+O28+Q28 -> 0 | D28: =F28+H28+J28+L28+N28+P28+R28 -> 0
A29: 5 | B29: Ataskaitos dieną į duomenų registrus įtrauktų asmenų skaičius(3-4), iš jų | C29: =E29+G29+I29+K29+M29+O29+Q29 -> 0 | D29: =F29+H29+J29+L29+N29+P29+R29 -> 0 | E29: =E25-E27 -> 0 | F29: =F25-F27 -> 0 | G29: =G25-G27 -> 0 | H29: =H25-H27 -> 0 | I29: =I25-I27 -> 0 | J29: =J25-J27 -> 0 | K29: =K25-K27 -> 0 | L29: =L25-L27 -> 0 | ... R29: =R25-R27 -> 0
A30: 5.1 | B30: iki 18 metų (3.1-4.1) | C30: =E30+G30+I30+K30+M30+O30+Q30 -> 0 | D30: =F30+H30+J30+L30+N30+P30+R30 -> 0 | E30: =E26-E28 -> 0 | F30: =F26-F28 -> 0 | G30: =G26-G28 -> 0 | H30: =H26-H28 -> 0 | I30: =I26-I28 -> 0 | J30: =J26-J28 -> 0 | K30: =K26-K28 -> 0 | L30: =L26-L28 -> 0 | ... R30: =R26-R28 -> 0
A31: 6 | B31: Asmenų, dalyvavusių smurtinį elgesį keičiančioje programoje, skaičius, iš jų² | C31: =E31+G31+I31+K31+M31+O31+Q31 -> 0 | D31: =F31+H31+J31+L31+N31+P31+R31 -> 0
A32: 6.1 | B32: iki 18 metų | C32: =E32+G32+I32+K32+M32+O32+Q32 -> 0 | D32: =F32+H32+J32+L32+N32+P32+R32 -> 0
A33: 7 | B33: Asmenų, išklausiusių smurtinį elgesį keičiančią programą,skaičius, iš jų | C33: =E33+G33+I33+K33+M33+O33+Q33 -> 0 | D33: =F33+H33+J33+L33+N33+P33+R33 -> 0
A34: 7.1 | B34: iki 18 metų | C34: =E34+G34+I34+K34+M34+O34+Q34 -> 0 | D34: =F34+H34+J34+L34+N34+P34+R34 -> 0
A35: Pastabos ir paaiškinimai:
B36: 1. 5 punkte pateikiami ataskaitos dienos duomenys, kituose punktuose − duomenys nuo metų pradžios didėjančia tvarka.
B37: 2. ¹ - asmenys, kurie buvo nuteisti už smurtą artimoje aplinkoje. Pagal Lietuvos Respublikos apsaugos nuo smurto artimoje aplinkoje įstatymą, artima aplinka - aplinka, kurią sudaro asmenys, siejami arba praeityje sieti santuokiniais, partnerystės, svainystės ar kitais artimais ryšiais, taip pat asmenys, kartu gyvenantys ir tvarkantys bendrą ūkį.
B38: 3. ² - asmenų, dalyvavusių programose, kurios konkrečiai skirtos smurtiniam elgesiui mažinti, skaičius.
B42: (pareigų pavadinimas) | N42: (vardas ir pavardė)

Sheet 7
A4: DARBO SU SMURTAUTOJAIS ARTIMOJE APLINKOJE, ESANČIAIS ŠIAULIŲ RAJONO SAVIVALDYBĖS VEIKLOS TERITORIJOS PRIEŽIŪROJE, STATISTINĖ ATASKAITA
A7: 2025-12-31 Nr. ___________
A9: 2025 m. sausio - gruodžio mėnesių duomenys
A11: Eil. Nr. | B11: Duomenų pavadinimas | C11: Asmenų skaičius | E11: Asmenys
E12: kuriems paskirta viešųjų darbų bausmė (BK 46 str.) | G12: kuriems paskirta laisvės apribojimo bausmė (BK 48 str.) | I12: kuriems paskirtos baudžiamojo poveikio priemonės (BK 69, 70, 72¹, 72² str.) | K12: kuriems skirtos auklėjamojo poveikio priemonės (BK 82 str.) | M12: kuriems bausmės vykdymas atidėtas (BK 75 str.) | O12: kuriems bausmės vykdymas atidėtas (BK 92 str.) | Q12: kurie lygtinai paleisti iš pataisos įstaigų (BVK 82 str.)
C19: iš viso | D19: moterų | E19: iš viso | F19: moterų | G19: iš viso | H19: moterų | I19: iš viso | J19: moterų | K19: iš viso | L19: moterų | M19: iš viso | N19: moterų | O19: iš viso | P19: moterų | Q19: iš viso | R19: moterų
A20: 1 | B20: 2 | C20: 3 | D20: 4 | E20: 5 | F20: 6 | G20: 7 | H20: 8 | I20: 9 | J20: 10 | K20: 11 | L20: 12 | M20: 13 | N20: 14 | O20: 15 | P20: 16 | Q20: 17 | R20: 18
A21: 1 | B21: Asmenų¹, įtrauktų į duomenų registrus, sausio 1 d. skaičius, iš jų | C21: =E21+G21+I21+K21+M21+O21+Q21 -> 0 | D21: =F21+H21+J21+L21+N21+P21+R21 -> 0
A22: 1.1 | B22: iki 18 metų | C22: =E22+G22+I22+K22+M22+O22+Q22 -> 0 | D22: =F22+H22+J22+L22+N22+P22+R22 -> 0
A23: 2 | B23: Asmenų, įtrauktų į duomenų registrus per ataskaitinį laikotarpį, skaičius, iš jų | C23: =E23+G23+I23+K23+M23+O23+Q23 -> 0 | D23: =F23+H23+J23+L23+N23+P23+R23 -> 0
A24: 2.1 | B24: iki 18 metų | C24: =E24+G24+I24+K24+M24+O24+Q24 -> 0 | D24: =F24+H24+J24+L24+N24+P24+R24 -> 0
A25: 3 | B25: Asmenų, kurie per ataskaitinį laikotarpį buvo įtraukti į duomenų registrus, skaičius (1+2), iš jų | C25: =E25+G25+I25+K25+M25+O25+Q25 -> 0 | D25: =F25+H25+J25+L25+N25+P25+R25 -> 0 | E25: =E21+E23 -> 0 | F25: =F21+F23 -> 0 | G25: =G21+G23 -> 0 | H25: =H21+H23 -> 0 | I25: =I21+I23 -> 0 | J25: =J21+J23 -> 0 | K25: =K21+K23 -> 0 | L25: =L21+L23 -> 0 | ... R25: =R21+R23 -> 0
A26: 3.1 | B26: iki 18 metų (1.1+2.1) | C26: =E26+G26+I26+K26+M26+O26+Q26 -> 0 | D26: =F26+H26+J26+L26+N26+P26+R26 -> 0 | E26: =E22+E24 -> 0 | F26: =F22+F24 -> 0 | G26: =G22+G24 -> 0 | H26: =H22+H24 -> 0 | I26: =I22+I24 -> 0 | J26: =J22+J24 -> 0 | K26: =K22+K24 -> 0 | L26: =L22+L24 -> 0 | ... R26: =R22+R24 -> 0
A27: 4 | B27: Asmenų, kurie per ataskaitinį laikotarpį buvo išregistruoti iš duomenų registrų, skaičius, iš jų | C27: =E27+G27+I27+K27+M27+O27+Q27 -> 0 | D27: =F27+H27+J27+L27+N27+P27+R27 -> 0
A28: 4.1 | B28: iki 18 metų | C28: =E28+G28+I28+K28+M28+O28+Q28 -> 0 | D28: =F28+H28+J28+L28+N28+P28+R28 -> 0
A29: 5 | B29: Ataskaitos dieną į duomenų registrus įtrauktų asmenų skaičius(3-4), iš jų | C29: =E29+G29+I29+K29+M29+O29+Q29 -> 0 | D29: =F29+H29+J29+L29+N29+P29+R29 -> 0 | E29: =E25-E27 -> 0 | F29: =F25-F27 -> 0 | G29: =G25-G27 -> 0 | H29: =H25-H27 -> 0 | I29: =I25-I27 -> 0 | J29: =J25-J27 -> 0 | K29: =K25-K27 -> 0 | L29: =L25-L27 -> 0 | ... R29: =R25-R27 -> 0
A30: 5.1 | B30: iki 18 metų (3.1-4.1) | C30: =E30+G30+I30+K30+M30+O30+Q30 -> 0 | D30: =F30+H30+J30+L30+N30+P30+R30 -> 0 | E30: =E26-E28 -> 0 | F30: =F26-F28 -> 0 | G30: =G26-G28 -> 0 | H30: =H26-H28 -> 0 | I30: =I26-I28 -> 0 | J30: =J26-J28 -> 0 | K30: =K26-K28 -> 0 | L30: =L26-L28 -> 0 | ... R30: =R26-R28 -> 0
A31: 6 | B31: Asmenų, dalyvavusių smurtinį elgesį keičiančioje programoje, skaičius, iš jų² | C31: =E31+G31+I31+K31+M31+O31+Q31 -> 0 | D31: =F31+H31+J31+L31+N31+P31+R31 -> 0
A32: 6.1 | B32: iki 18 metų | C32: =E32+G32+I32+K32+M32+O32+Q32 -> 0 | D32: =F32+H32+J32+L32+N32+P32+R32 -> 0
A33: 7 | B33: Asmenų, išklausiusių smurtinį elgesį keičiančią programą,skaičius, iš jų | C33: =E33+G33+I33+K33+M33+O33+Q33 -> 0 | D33: =F33+H33+J33+L33+N33+P33+R33 -> 0
A34: 7.1 | B34: iki 18 metų | C34: =E34+G34+I34+K34+M34+O34+Q34 -> 0 | D34: =F34+H34+J34+L34+N34+P34+R34 -> 0
A35: Pastabos ir paaiškinimai:
B36: 1. 5 punkte pateikiami ataskaitos dienos duomenys, kituose punktuose − duomenys nuo metų pradžios didėjančia tvarka.
B37: 2. ¹ - asmenys, kurie buvo nuteisti už smurtą artimoje aplinkoje. Pagal Lietuvos Respublikos apsaugos nuo smurto artimoje aplinkoje įstatymą, artima aplinka - aplinka, kurią sudaro asmenys, siejami arba praeityje sieti santuokiniais, partnerystės, svainystės ar kitais artimais ryšiais, taip pat asmenys, kartu gyvenantys ir tvarkantys bendrą ūkį.
B38: 3. ² - asmenų, dalyvavusių programose, kurios konkrečiai skirtos smurtiniam elgesiui mažinti, skaičius.
B41: Vyriausiasis specialistas | N41: Ričardas Urnikis
B42: (pareigų pavadinimas) | N42: (vardas ir pavardė)

Sheet Sheet13
A4: DARBO SU SMURTAUTOJAIS ARTIMOJE APLINKOJE, ESANČIAIS PRIEŽIŪROJE, STATISTINĖ ATASKAITA
A7: 20 - - Nr. ___________
A9: 20 m. mėnesių duomenys
A11: Eil. Nr. | B11: Duomenų pavadinimas | C11: Asmenų skaičius | E11: Asmenys
E12: kuriems paskirta viešųjų darbų bausmė (BK 46 str.) | G12: kuriems paskirta laisvės apribojimo bausmė (BK 48 str.) | I12: kuriems paskirtos baudžiamojo poveikio priemonės (BK 69, 70, 72¹, 72² str.) | K12: kuriems skirtos auklėjamojo poveikio priemonės (BK 82 str.) | M12: kuriems bausmės vykdymas atidėtas (BK 75 str.) | O12: kuriems bausmės vykdymas atidėtas (BK 92 str.) | Q12: kurie lygtinai paleisti iš pataisos įstaigų (BVK 82 str.)
C19: iš viso | D19: moterų | E19: iš viso | F19: moterų | G19: iš viso | H19: moterų | I19: iš viso | J19: moterų | K19: iš viso | L19: moterų | M19: iš viso | N19: moterų | O19: iš viso | P19: moterų | Q19: iš viso | R19: moterų
A20: 1 | B20: 2 | C20: 3 | D20: 4 | E20: 5 | F20: 6 | G20: 7 | H20: 8 | I20: 9 | J20: 10 | K20: 11 | L20: 12 | M20: 13 | N20: 14 | O20: 15 | P20: 16 | Q20: 17 | R20: 18
A21: 1 | B21: Asmenų¹, įtrauktų į duomenų registrus, sausio 1 d. skaičius, iš jų | C21: =E21+G21+I21+K21+M21+O21+Q21 -> 0 | D21: =F21+H21+J21+L21+N21+P21+R21 -> 0
A22: 1.1 | B22: iki 18 metų | C22: =E22+G22+I22+K22+M22+O22+Q22 -> 0 | D22: =F22+H22+J22+L22+N22+P22+R22 -> 0
A23: 2 | B23: Asmenų, įtrauktų į duomenų registrus per ataskaitinį laikotarpį, skaičius, iš jų | C23: =E23+G23+I23+K23+M23+O23+Q23 -> 0 | D23: =F23+H23+J23+L23+N23+P23+R23 -> 0
A24: 2.1 | B24: iki 18 metų | C24: =E24+G24+I24+K24+M24+O24+Q24 -> 0 | D24: =F24+H24+J24+L24+N24+P24+R24 -> 0
A25: 3 | B25: Asmenų, kurie per ataskaitinį laikotarpį buvo įtraukti į duomenų registrus, skaičius (1+2), iš jų | C25: =E25+G25+I25+K25+M25+O25+Q25 -> 0 | D25: =F25+H25+J25+L25+N25+P25+R25 -> 0 | E25: =E21+E23 -> 0 | F25: =F21+F23 -> 0 | G25: =G21+G23 -> 0 | H25: =H21+H23 -> 0 | I25: =I21+I23 -> 0 | J25: =J21+J23 -> 0 | K25: =K21+K23 -> 0 | L25: =L21+L23 -> 0 | ... R25: =R21+R23 -> 0
A26: 3.1 | B26: iki 18 metų (1.1+2.1) | C26: =E26+G26+I26+K26+M26+O26+Q26 -> 0 | D26: =F26+H26+J26+L26+N26+P26+R26 -> 0 | E26: =E22+E24 -> 0 | F26: =F22+F24 -> 0 | G26: =G22+G24 -> 0 | H26: =H22+H24 -> 0 | I26: =I22+I24 -> 0 | J26: =J22+J24 -> 0 | K26: =K22+K24 -> 0 | L26: =L22+L24 -> 0 | ... R26: =R22+R24 -> 0
A27: 4 | B27: Asmenų, kurie per ataskaitinį laikotarpį buvo išregistruoti iš duomenų registrų, skaičius, iš jų | C27: =E27+G27+I27+K27+M27+O27+Q27 -> 0 | D27: =F27+H27+J27+L27+N27+P27+R27 -> 0
A28: 4.1 | B28: iki 18 metų | C28: =E28+G28+I28+K28+M28+O28+Q28 -> 0 | D28: =F28+H28+J28+L28+N28+P28+R28 -> 0
A29: 5 | B29: Ataskaitos dieną į duomenų registrus įtrauktų asmenų skaičius(3-4), iš jų | C29: =E29+G29+I29+K29+M29+O29+Q29 -> 0 | D29: =F29+H29+J29+L29+N29+P29+R29 -> 0 | E29: =E25-E27 -> 0 | F29: =F25-F27 -> 0 | G29: =G25-G27 -> 0 | H29: =H25-H27 -> 0 | I29: =I25-I27 -> 0 | J29: =J25-J27 -> 0 | K29: =K25-K27 -> 0 | L29: =L25-L27 -> 0 | ... R29: =R25-R27 -> 0
A30: 5.1 | B30: iki 18 metų (3.1-4.1) | C30: =E30+G30+I30+K30+M30+O30+Q30 -> 0 | D30: =F30+H30+J30+L30+N30+P30+R30 -> 0 | E30: =E26-E28 -> 0 | F30: =F26-F28 -> 0 | G30: =G26-G28 -> 0 | H30: =H26-H28 -> 0 | I30: =I26-I28 -> 0 | J30: =J26-J28 -> 0 | K30: =K26-K28 -> 0 | L30: =L26-L28 -> 0 | ... R30: =R26-R28 -> 0
A31: 6 | B31: Asmenų, dalyvavusių smurtinį elgesį keičiančioje programoje, skaičius, iš jų² | C31: =E31+G31+I31+K31+M31+O31+Q31 -> 0 | D31: =F31+H31+J31+L31+N31+P31+R31 -> 0
A32: 6.1 | B32: iki 18 metų | C32: =E32+G32+I32+K32+M32+O32+Q32 -> 0 | D32: =F32+H32+J32+L32+N32+P32+R32 -> 0
A33: 7 | B33: Asmenų, išklausiusių smurtinį elgesį keičiančią programą,skaičius, iš jų | C33: =E33+G33+I33+K33+M33+O33+Q33 -> 0 | D33: =F33+H33+J33+L33+N33+P33+R33 -> 0
A34: 7.1 | B34: iki 18 metų | C34: =E34+G34+I34+K34+M34+O34+Q34 -> 0 | D34: =F34+H34+J34+L34+N34+P34+R34 -> 0
A35: Pastabos ir paaiškinimai:
B36: 1. 5 punkte pateikiami ataskaitos dienos duomenys, kituose punktuose − duomenys nuo metų pradžios didėjančia tvarka.
B37: 2. ¹ - asmenys, kurie buvo nuteisti už smurtą artimoje aplinkoje. Pagal Lietuvos Respublikos apsaugos nuo smurto artimoje aplinkoje įstatymą, artima aplinka - aplinka, kurią sudaro asmenys, siejami arba praeityje sieti santuokiniais, partnerystės, svainystės ar kitais artimais ryšiais, taip pat asmenys, kartu gyvenantys ir tvarkantys bendrą ūkį.
B38: 3. ² - asmenų, dalyvavusių programose, kurios konkrečiai skirtos smurtiniam elgesiui mažinti, skaičius.
B42: (pareigų pavadinimas) | N42: (vardas ir pavardė)

Sheet Sheet14
A4: DARBO SU SMURTAUTOJAIS ARTIMOJE APLINKOJE, ESANČIAIS PRIEŽIŪROJE, STATISTINĖ ATASKAITA
A7: 20 - - Nr. ___________
A9: 20 m. mėnesių duomenys
A11: Eil. Nr. | B11: Duomenų pavadinimas | C11: Asmenų skaičius | E11: Asmenys
E12: kuriems paskirta viešųjų darbų bausmė (BK 46 str.) | G12: kuriems paskirta laisvės apribojimo bausmė (BK 48 str.) | I12: kuriems paskirtos baudžiamojo poveikio priemonės (BK 69, 70, 72¹, 72² str.) | K12: kuriems skirtos auklėjamojo poveikio priemonės (BK 82 str.) | M12: kuriems bausmės vykdymas atidėtas (BK 75 str.) | O12: kuriems bausmės vykdymas atidėtas (BK 92 str.) | Q12: kurie lygtinai paleisti iš pataisos įstaigų (BVK 82 str.)
C19: iš viso | D19: moterų | E19: iš viso | F19: moterų | G19: iš viso | H19: moterų | I19: iš viso | J19: moterų | K19: iš viso | L19: moterų | M19: iš viso | N19: moterų | O19: iš viso | P19: moterų | Q19: iš viso | R19: moterų
A20: 1 | B20: 2 | C20: 3 | D20: 4 | E20: 5 | F20: 6 | G20: 7 | H20: 8 | I20: 9 | J20: 10 | K20: 11 | L20: 12 | M20: 13 | N20: 14 | O20: 15 | P20: 16 | Q20: 17 | R20: 18
A21: 1 | B21: Asmenų¹, įtrauktų į duomenų registrus, sausio 1 d. skaičius, iš jų | C21: =E21+G21+I21+K21+M21+O21+Q21 -> 0 | D21: =F21+H21+J21+L21+N21+P21+R21 -> 0
A22: 1.1 | B22: iki 18 metų | C22: =E22+G22+I22+K22+M22+O22+Q22 -> 0 | D22: =F22+H22+J22+L22+N22+P22+R22 -> 0
A23: 2 | B23: Asmenų, įtrauktų į duomenų registrus per ataskaitinį laikotarpį, skaičius, iš jų | C23: =E23+G23+I23+K23+M23+O23+Q23 -> 0 | D23: =F23+H23+J23+L23+N23+P23+R23 -> 0
A24: 2.1 | B24: iki 18 metų | C24: =E24+G24+I24+K24+M24+O24+Q24 -> 0 | D24: =F24+H24+J24+L24+N24+P24+R24 -> 0
A25: 3 | B25: Asmenų, kurie per ataskaitinį laikotarpį buvo įtraukti į duomenų registrus, skaičius (1+2), iš jų | C25: =E25+G25+I25+K25+M25+O25+Q25 -> 0 | D25: =F25+H25+J25+L25+N25+P25+R25 -> 0 | E25: =E21+E23 -> 0 | F25: =F21+F23 -> 0 | G25: =G21+G23 -> 0 | H25: =H21+H23 -> 0 | I25: =I21+I23 -> 0 | J25: =J21+J23 -> 0 | K25: =K21+K23 -> 0 | L25: =L21+L23 -> 0 | ... R25: =R21+R23 -> 0
A26: 3.1 | B26: iki 18 metų (1.1+2.1) | C26: =E26+G26+I26+K26+M26+O26+Q26 -> 0 | D26: =F26+H26+J26+L26+N26+P26+R26 -> 0 | E26: =E22+E24 -> 0 | F26: =F22+F24 -> 0 | G26: =G22+G24 -> 0 | H26: =H22+H24 -> 0 | I26: =I22+I24 -> 0 | J26: =J22+J24 -> 0 | K26: =K22+K24 -> 0 | L26: =L22+L24 -> 0 | ... R26: =R22+R24 -> 0
A27: 4 | B27: Asmenų, kurie per ataskaitinį laikotarpį buvo išregistruoti iš duomenų registrų, skaičius, iš jų | C27: =E27+G27+I27+K27+M27+O27+Q27 -> 0 | D27: =F27+H27+J27+L27+N27+P27+R27 -> 0
A28: 4.1 | B28: iki 18 metų | C28: =E28+G28+I28+K28+M28+O28+Q28 -> 0 | D28: =F28+H28+J28+L28+N28+P28+R28 -> 0
A29: 5 | B29: Ataskaitos dieną į duomenų registrus įtrauktų asmenų skaičius(3-4), iš jų | C29: =E29+G29+I29+K29+M29+O29+Q29 -> 0 | D29: =F29+H29+J29+L29+N29+P29+R29 -> 0 | E29: =E25-E27 -> 0 | F29: =F25-F27 -> 0 | G29: =G25-G27 -> 0 | H29: =H25-H27 -> 0 | I29: =I25-I27 -> 0 | J29: =J25-J27 -> 0 | K29: =K25-K27 -> 0 | L29: =L25-L27 -> 0 | ... R29: =R25-R27 -> 0
A30: 5.1 | B30: iki 18 metų (3.1-4.1) | C30: =E30+G30+I30+K30+M30+O30+Q30 -> 0 | D30: =F30+H30+J30+L30+N30+P30+R30 -> 0 | E30: =E26-E28 -> 0 | F30: =F26-F28 -> 0 | G30: =G26-G28 -> 0 | H30: =H26-H28 -> 0 | I30: =I26-I28 -> 0 | J30: =J26-J28 -> 0 | K30: =K26-K28 -> 0 | L30: =L26-L28 -> 0 | ... R30: =R26-R28 -> 0
A31: 6 | B31: Asmenų, dalyvavusių smurtinį elgesį keičiančioje programoje, skaičius, iš jų² | C31: =E31+G31+I31+K31+M31+O31+Q31 -> 0 | D31: =F31+H31+J31+L31+N31+P31+R31 -> 0
A32: 6.1 | B32: iki 18 metų | C32: =E32+G32+I32+K32+M32+O32+Q32 -> 0 | D32: =F32+H32+J32+L32+N32+P32+R32 -> 0
A33: 7 | B33: Asmenų, išklausiusių smurtinį elgesį keičiančią programą,skaičius, iš jų | C33: =E33+G33+I33+K33+M33+O33+Q33 -> 0 | D33: =F33+H33+J33+L33+N33+P33+R33 -> 0
A34: 7.1 | B34: iki 18 metų | C34: =E34+G34+I34+K34+M34+O34+Q34 -> 0 | D34: =F34+H34+J34+L34+N34+P34+R34 -> 0
A35: Pastabos ir paaiškinimai:
B36: 1. 5 punkte pateikiami ataskaitos dienos duomenys, kituose punktuose − duomenys nuo metų pradžios didėjančia tvarka.
B37: 2. ¹ - asmenys, kurie buvo nuteisti už smurtą artimoje aplinkoje. Pagal Lietuvos Respublikos apsaugos nuo smurto artimoje aplinkoje įstatymą, artima aplinka - aplinka, kurią sudaro asmenys, siejami arba praeityje sieti santuokiniais, partnerystės, svainystės ar kitais artimais ryšiais, taip pat asmenys, kartu gyvenantys ir tvarkantys bendrą ūkį.
B38: 3. ² - asmenų, dalyvavusių programose, kurios konkrečiai skirtos smurtiniam elgesiui mažinti, skaičius.
B42: (pareigų pavadinimas) | N42: (vardas ir pavardė)

Sheet Sheet15
A4: DARBO SU SMURTAUTOJAIS ARTIMOJE APLINKOJE, ESANČIAIS PRIEŽIŪROJE, STATISTINĖ ATASKAITA
A7: 20 - - Nr. ___________
A9: 20 m. mėnesių duomenys
A11: Eil. Nr. | B11: Duomenų pavadinimas | C11: Asmenų skaičius | E11: Asmenys
E12: kuriems paskirta viešųjų darbų bausmė (BK 46 str.) | G12: kuriems paskirta laisvės apribojimo bausmė (BK 48 str.) | I12: kuriems paskirtos baudžiamojo poveikio priemonės (BK 69, 70, 72¹, 72² str.) | K12: kuriems skirtos auklėjamojo poveikio priemonės (BK 82 str.) | M12: kuriems bausmės vykdymas atidėtas (BK 75 str.) | O12: kuriems bausmės vykdymas atidėtas (BK 92 str.) | Q12: kurie lygtinai paleisti iš pataisos įstaigų (BVK 82 str.)
C19: iš viso | D19: moterų | E19: iš viso | F19: moterų | G19: iš viso | H19: moterų | I19: iš viso | J19: moterų | K19: iš viso | L19: moterų | M19: iš viso | N19: moterų | O19: iš viso | P19: moterų | Q19: iš viso | R19: moterų
A20: 1 | B20: 2 | C20: 3 | D20: 4 | E20: 5 | F20: 6 | G20: 7 | H20: 8 | I20: 9 | J20: 10 | K20: 11 | L20: 12 | M20: 13 | N20: 14 | O20: 15 | P20: 16 | Q20: 17 | R20: 18
A21: 1 | B21: Asmenų¹, įtrauktų į duomenų registrus, sausio 1 d. skaičius, iš jų | C21: =E21+G21+I21+K21+M21+O21+Q21 -> 0 | D21: =F21+H21+J21+L21+N21+P21+R21 -> 0
A22: 1.1 | B22: iki 18 metų | C22: =E22+G22+I22+K22+M22+O22+Q22 -> 0 | D22: =F22+H22+J22+L22+N22+P22+R22 -> 0
A23: 2 | B23: Asmenų, įtrauktų į duomenų registrus per ataskaitinį laikotarpį, skaičius, iš jų | C23: =E23+G23+I23+K23+M23+O23+Q23 -> 0 | D23: =F23+H23+J23+L23+N23+P23+R23 -> 0
A24: 2.1 | B24: iki 18 metų | C24: =E24+G24+I24+K24+M24+O24+Q24 -> 0 | D24: =F24+H24+J24+L24+N24+P24+R24 -> 0
A25: 3 | B25: Asmenų, kurie per ataskaitinį laikotarpį buvo įtraukti į duomenų registrus, skaičius (1+2), iš jų | C25: =E25+G25+I25+K25+M25+O25+Q25 -> 0 | D25: =F25+H25+J25+L25+N25+P25+R25 -> 0 | E25: =E21+E23 -> 0 | F25: =F21+F23 -> 0 | G25: =G21+G23 -> 0 | H25: =H21+H23 -> 0 | I25: =I21+I23 -> 0 | J25: =J21+J23 -> 0 | K25: =K21+K23 -> 0 | L25: =L21+L23 -> 0 | ... R25: =R21+R23 -> 0
A26: 3.1 | B26: iki 18 metų (1.1+2.1) | C26: =E26+G26+I26+K26+M26+O26+Q26 -> 0 | D26: =F26+H26+J26+L26+N26+P26+R26 -> 0 | E26: =E22+E24 -> 0 | F26: =F22+F24 -> 0 | G26: =G22+G24 -> 0 | H26: =H22+H24 -> 0 | I26: =I22+I24 -> 0 | J26: =J22+J24 -> 0 | K26: =K22+K24 -> 0 | L26: =L22+L24 -> 0 | ... R26: =R22+R24 -> 0
A27: 4 | B27: Asmenų, kurie per ataskaitinį laikotarpį buvo išregistruoti iš duomenų registrų, skaičius, iš jų | C27: =E27+G27+I27+K27+M27+O27+Q27 -> 0 | D27: =F27+H27+J27+L27+N27+P27+R27 -> 0
A28: 4.1 | B28: iki 18 metų | C28: =E28+G28+I28+K28+M28+O28+Q28 -> 0 | D28: =F28+H28+J28+L28+N28+P28+R28 -> 0
A29: 5 | B29: Ataskaitos dieną į duomenų registrus įtrauktų asmenų skaičius(3-4), iš jų | C29: =E29+G29+I29+K29+M29+O29+Q29 -> 0 | D29: =F29+H29+J29+L29+N29+P29+R29 -> 0 | E29: =E25-E27 -> 0 | F29: =F25-F27 -> 0 | G29: =G25-G27 -> 0 | H29: =H25-H27 -> 0 | I29: =I25-I27 -> 0 | J29: =J25-J27 -> 0 | K29: =K25-K27 -> 0 | L29: =L25-L27 -> 0 | ... R29: =R25-R27 -> 0
A30: 5.1 | B30: iki 18 metų (3.1-4.1) | C30: =E30+G30+I30+K30+M30+O30+Q30 -> 0 | D30: =F30+H30+J30+L30+N30+P30+R30 -> 0 | E30: =E26-E28 -> 0 | F30: =F26-F28 -> 0 | G30: =G26-G28 -> 0 | H30: =H26-H28 -> 0 | I30: =I26-I28 -> 0 | J30: =J26-J28 -> 0 | K30: =K26-K28 -> 0 | L30: =L26-L28 -> 0 | ... R30: =R26-R28 -> 0
A31: 6 | B31: Asmenų, dalyvavusių smurtinį elgesį keičiančioje programoje, skaičius, iš jų² | C31: =E31+G31+I31+K31+M31+O31+Q31 -> 0 | D31: =F31+H31+J31+L31+N31+P31+R31 -> 0
A32: 6.1 | B32: iki 18 metų | C32: =E32+G32+I32+K32+M32+O32+Q32 -> 0 | D32: =F32+H32+J32+L32+N32+P32+R32 -> 0
A33: 7 | B33: Asmenų, išklausiusių smurtinį elgesį keičiančią programą,skaičius, iš jų | C33: =E33+G33+I33+K33+M33+O33+Q33 -> 0 | D33: =F33+H33+J33+L33+N33+P33+R33 -> 0
A34: 7.1 | B34: iki 18 metų | C34: =E34+G34+I34+K34+M34+O34+Q34 -> 0 | D34: =F34+H34+J34+L34+N34+P34+R34 -> 0
A35: Pastabos ir paaiškinimai:
B36: 1. 5 punkte pateikiami ataskaitos dienos duomenys, kituose punktuose − duomenys nuo metų pradžios didėjančia tvarka.
B37: 2. ¹ - asmenys, kurie buvo nuteisti už smurtą artimoje aplinkoje. Pagal Lietuvos Respublikos apsaugos nuo smurto artimoje aplinkoje įstatymą, artima aplinka - aplinka, kurią sudaro asmenys, siejami arba praeityje sieti santuokiniais, partnerystės, svainystės ar kitais artimais ryšiais, taip pat asmenys, kartu gyvenantys ir tvarkantys bendrą ūkį.
B38: 3. ² - asmenų, dalyvavusių programose, kurios konkrečiai skirtos smurtiniam elgesiui mažinti, skaičius.
B42: (pareigų pavadinimas) | N42: (vardas ir pavardė)

Sheet Sheet16
A4: DARBO SU SMURTAUTOJAIS ARTIMOJE APLINKOJE, ESANČIAIS PRIEŽIŪROJE, STATISTINĖ ATASKAITA
A7: 20 - - Nr. ___________
A9: 20 m. mėnesių duomenys
A11: Eil. Nr. | B11: Duomenų pavadinimas | C11: Asmenų skaičius | E11: Asmenys
E12: kuriems paskirta viešųjų darbų bausmė (BK 46 str.) | G12: kuriems paskirta laisvės apribojimo bausmė (BK 48 str.) | I12: kuriems paskirtos baudžiamojo poveikio priemonės (BK 69, 70, 72¹, 72² str.) | K12: kuriems skirtos auklėjamojo poveikio priemonės (BK 82 str.) | M12: kuriems bausmės vykdymas atidėtas (BK 75 str.) | O12: kuriems bausmės vykdymas atidėtas (BK 92 str.) | Q12: kurie lygtinai paleisti iš pataisos įstaigų (BVK 82 str.)
C19: iš viso | D19: moterų | E19: iš viso | F19: moterų | G19: iš viso | H19: moterų | I19: iš viso | J19: moterų | K19: iš viso | L19: moterų | M19: iš viso | N19: moterų | O19: iš viso | P19: moterų | Q19: iš viso | R19: moterų
A20: 1 | B20: 2 | C20: 3 | D20: 4 | E20: 5 | F20: 6 | G20: 7 | H20: 8 | I20: 9 | J20: 10 | K20: 11 | L20: 12 | M20: 13 | N20: 14 | O20: 15 | P20: 16 | Q20: 17 | R20: 18
A21: 1 | B21: Asmenų¹, įtrauktų į duomenų registrus, sausio 1 d. skaičius, iš jų | C21: =E21+G21+I21+K21+M21+O21+Q21 -> 0 | D21: =F21+H21+J21+L21+N21+P21+R21 -> 0
A22: 1.1 | B22: iki 18 metų | C22: =E22+G22+I22+K22+M22+O22+Q22 -> 0 | D22: =F22+H22+J22+L22+N22+P22+R22 -> 0
A23: 2 | B23: Asmenų, įtrauktų į duomenų registrus per ataskaitinį laikotarpį, skaičius, iš jų | C23: =E23+G23+I23+K23+M23+O23+Q23 -> 0 | D23: =F23+H23+J23+L23+N23+P23+R23 -> 0
A24: 2.1 | B24: iki 18 metų | C24: =E24+G24+I24+K24+M24+O24+Q24 -> 0 | D24: =F24+H24+J24+L24+N24+P24+R24 -> 0
A25: 3 | B25: Asmenų, kurie per ataskaitinį laikotarpį buvo įtraukti į duomenų registrus, skaičius (1+2), iš jų | C25: =E25+G25+I25+K25+M25+O25+Q25 -> 0 | D25: =F25+H25+J25+L25+N25+P25+R25 -> 0 | E25: =E21+E23 -> 0 | F25: =F21+F23 -> 0 | G25: =G21+G23 -> 0 | H25: =H21+H23 -> 0 | I25: =I21+I23 -> 0 | J25: =J21+J23 -> 0 | K25: =K21+K23 -> 0 | L25: =L21+L23 -> 0 | ... R25: =R21+R23 -> 0
A26: 3.1 | B26: iki 18 metų (1.1+2.1) | C26: =E26+G26+I26+K26+M26+O26+Q26 -> 0 | D26: =F26+H26+J26+L26+N26+P26+R26 -> 0 | E26: =E22+E24 -> 0 | F26: =F22+F24 -> 0 | G26: =G22+G24 -> 0 | H26: =H22+H24 -> 0 | I26: =I22+I24 -> 0 | J26: =J22+J24 -> 0 | K26: =K22+K24 -> 0 | L26: =L22+L24 -> 0 | ... R26: =R22+R24 -> 0
A27: 4 | B27: Asmenų, kurie per ataskaitinį laikotarpį buvo išregistruoti iš duomenų registrų, skaičius, iš jų | C27: =E27+G27+I27+K27+M27+O27+Q27 -> 0 | D27: =F27+H27+J27+L27+N27+P27+R27 -> 0
A28: 4.1 | B28: iki 18 metų | C28: =E28+G28+I28+K28+M28+O28+Q28 -> 0 | D28: =F28+H28+J28+L28+N28+P28+R28 -> 0
A29: 5 | B29: Ataskaitos dieną į duomenų registrus įtrauktų asmenų skaičius(3-4), iš jų | C29: =E29+G29+I29+K29+M29+O29+Q29 -> 0 | D29: =F29+H29+J29+L29+N29+P29+R29 -> 0 | E29: =E25-E27 -> 0 | F29: =F25-F27 -> 0 | G29: =G25-G27 -> 0 | H29: =H25-H27 -> 0 | I29: =I25-I27 -> 0 | J29: =J25-J27 -> 0 | K29: =K25-K27 -> 0 | L29: =L25-L27 -> 0 | ... R29: =R25-R27 -> 0
A30: 5.1 | B30: iki 18 metų (3.1-4.1) | C30: =E30+G30+I30+K30+M30+O30+Q30 -> 0 | D30: =F30+H30+J30+L30+N30+P30+R30 -> 0 | E30: =E26-E28 -> 0 | F30: =F26-F28 -> 0 | G30: =G26-G28 -> 0 | H30: =H26-H28 -> 0 | I30: =I26-I28 -> 0 | J30: =J26-J28 -> 0 | K30: =K26-K28 -> 0 | L30: =L26-L28 -> 0 | ... R30: =R26-R28 -> 0
A31: 6 | B31: Asmenų, dalyvavusių smurtinį elgesį keičiančioje programoje, skaičius, iš jų² | C31: =E31+G31+I31+K31+M31+O31+Q31 -> 0 | D31: =F31+H31+J31+L31+N31+P31+R31 -> 0
A32: 6.1 | B32: iki 18 metų | C32: =E32+G32+I32+K32+M32+O32+Q32 -> 0 | D32: =F32+H32+J32+L32+N32+P32+R32 -> 0
A33: 7 | B33: Asmenų, išklausiusių smurtinį elgesį keičiančią programą,skaičius, iš jų | C33: =E33+G33+I33+K33+M33+O33+Q33 -> 0 | D33: =F33+H33+J33+L33+N33+P33+R33 -> 0
A34: 7.1 | B34: iki 18 metų | C34: =E34+G34+I34+K34+M34+O34+Q34 -> 0 | D34: =F34+H34+J34+L34+N34+P34+R34 -> 0
A35: Pastabos ir paaiškinimai:
B36: 1. 5 punkte pateikiami ataskaitos dienos duomenys, kituose punktuose − duomenys nuo metų pradžios didėjančia tvarka.
B37: 2. ¹ - asmenys, kurie buvo nuteisti už smurtą artimoje aplinkoje. Pagal Lietuvos Respublikos apsaugos nuo smurto artimoje aplinkoje įstatymą, artima aplinka - aplinka, kurią sudaro asmenys, siejami arba praeityje sieti santuokiniais, partnerystės, svainystės ar kitais artimais ryšiais, taip pat asmenys, kartu gyvenantys ir tvarkantys bendrą ūkį.
B38: 3. ² - asmenų, dalyvavusių programose, kurios konkrečiai skirtos smurtiniam elgesiui mažinti, skaičius.
B42: (pareigų pavadinimas) | N42: (vardas ir pavardė)

Sheet Sheet17
A4: DARBO SU SMURTAUTOJAIS ARTIMOJE APLINKOJE, ESANČIAIS PRIEŽIŪROJE, STATISTINĖ ATASKAITA
A7: 20 - - Nr. ___________
A9: 20 m. mėnesių duomenys
A11: Eil. Nr. | B11: Duomenų pavadinimas | C11: Asmenų skaičius | E11: Asmenys
E12: kuriems paskirta viešųjų darbų bausmė (BK 46 str.) | G12: kuriems paskirta laisvės apribojimo bausmė (BK 48 str.) | I12: kuriems paskirtos baudžiamojo poveikio priemonės (BK 69, 70, 72¹, 72² str.) | K12: kuriems skirtos auklėjamojo poveikio priemonės (BK 82 str.) | M12: kuriems bausmės vykdymas atidėtas (BK 75 str.) | O12: kuriems bausmės vykdymas atidėtas (BK 92 str.) | Q12: kurie lygtinai paleisti iš pataisos įstaigų (BVK 82 str.)
C19: iš viso | D19: moterų | E19: iš viso | F19: moterų | G19: iš viso | H19: moterų | I19: iš viso | J19: moterų | K19: iš viso | L19: moterų | M19: iš viso | N19: moterų | O19: iš viso | P19: moterų | Q19: iš viso | R19: moterų
A20: 1 | B20: 2 | C20: 3 | D20: 4 | E20: 5 | F20: 6 | G20: 7 | H20: 8 | I20: 9 | J20: 10 | K20: 11 | L20: 12 | M20: 13 | N20: 14 | O20: 15 | P20: 16 | Q20: 17 | R20: 18
A21: 1 | B21: Asmenų¹, įtrauktų į duomenų registrus, sausio 1 d. skaičius, iš jų | C21: =E21+G21+I21+K21+M21+O21+Q21 -> 0 | D21: =F21+H21+J21+L21+N21+P21+R21 -> 0
A22: 1.1 | B22: iki 18 metų | C22: =E22+G22+I22+K22+M22+O22+Q22 -> 0 | D22: =F22+H22+J22+L22+N22+P22+R22 -> 0
A23: 2 | B23: Asmenų, įtrauktų į duomenų registrus per ataskaitinį laikotarpį, skaičius, iš jų | C23: =E23+G23+I23+K23+M23+O23+Q23 -> 0 | D23: =F23+H23+J23+L23+N23+P23+R23 -> 0
A24: 2.1 | B24: iki 18 metų | C24: =E24+G24+I24+K24+M24+O24+Q24 -> 0 | D24: =F24+H24+J24+L24+N24+P24+R24 -> 0
A25: 3 | B25: Asmenų, kurie per ataskaitinį laikotarpį buvo įtraukti į duomenų registrus, skaičius (1+2), iš jų | C25: =E25+G25+I25+K25+M25+O25+Q25 -> 0 | D25: =F25+H25+J25+L25+N25+P25+R25 -> 0 | E25: =E21+E23 -> 0 | F25: =F21+F23 -> 0 | G25: =G21+G23 -> 0 | H25: =H21+H23 -> 0 | I25: =I21+I23 -> 0 | J25: =J21+J23 -> 0 | K25: =K21+K23 -> 0 | L25: =L21+L23 -> 0 | ... R25: =R21+R23 -> 0
A26: 3.1 | B26: iki 18 metų (1.1+2.1) | C26: =E26+G26+I26+K26+M26+O26+Q26 -> 0 | D26: =F26+H26+J26+L26+N26+P26+R26 -> 0 | E26: =E22+E24 -> 0 | F26: =F22+F24 -> 0 | G26: =G22+G24 -> 0 | H26: =H22+H24 -> 0 | I26: =I22+I24 -> 0 | J26: =J22+J24 -> 0 | K26: =K22+K24 -> 0 | L26: =L22+L24 -> 0 | ... R26: =R22+R24 -> 0
A27: 4 | B27: Asmenų, kurie per ataskaitinį laikotarpį buvo išregistruoti iš duomenų registrų, skaičius, iš jų | C27: =E27+G27+I27+K27+M27+O27+Q27 -> 0 | D27: =F27+H27+J27+L27+N27+P27+R27 -> 0
A28: 4.1 | B28: iki 18 metų | C28: =E28+G28+I28+K28+M28+O28+Q28 -> 0 | D28: =F28+H28+J28+L28+N28+P28+R28 -> 0
A29: 5 | B29: Ataskaitos dieną į duomenų registrus įtrauktų asmenų skaičius(3-4), iš jų | C29: =E29+G29+I29+K29+M29+O29+Q29 -> 0 | D29: =F29+H29+J29+L29+N29+P29+R29 -> 0 | E29: =E25-E27 -> 0 | F29: =F25-F27 -> 0 | G29: =G25-G27 -> 0 | H29: =H25-H27 -> 0 | I29: =I25-I27 -> 0 | J29: =J25-J27 -> 0 | K29: =K25-K27 -> 0 | L29: =L25-L27 -> 0 | ... R29: =R25-R27 -> 0
A30: 5.1 | B30: iki 18 metų (3.1-4.1) | C30: =E30+G30+I30+K30+M30+O30+Q30 -> 0 | D30: =F30+H30+J30+L30+N30+P30+R30 -> 0 | E30: =E26-E28 -> 0 | F30: =F26-F28 -> 0 | G30: =G26-G28 -> 0 | H30: =H26-H28 -> 0 | I30: =I26-I28 -> 0 | J30: =J26-J28 -> 0 | K30: =K26-K28 -> 0 | L30: =L26-L28 -> 0 | ... R30: =R26-R28 -> 0
A31: 6 | B31: Asmenų, dalyvavusių smurtinį elgesį keičiančioje programoje, skaičius, iš jų² | C31: =E31+G31+I31+K31+M31+O31+Q31 -> 0 | D31: =F31+H31+J31+L31+N31+P31+R31 -> 0
A32: 6.1 | B32: iki 18 metų | C32: =E32+G32+I32+K32+M32+O32+Q32 -> 0 | D32: =F32+H32+J32+L32+N32+P32+R32 -> 0
A33: 7 | B33: Asmenų, išklausiusių smurtinį elgesį keičiančią programą,skaičius, iš jų | C33: =E33+G33+I33+K33+M33+O33+Q33 -> 0 | D33: =F33+H33+J33+L33+N33+P33+R33 -> 0
A34: 7.1 | B34: iki 18 metų | C34: =E34+G34+I34+K34+M34+O34+Q34 -> 0 | D34: =F34+H34+J34+L34+N34+P34+R34 -> 0
A35: Pastabos ir paaiškinimai:
B36: 1. 5 punkte pateikiami ataskaitos dienos duomenys, kituose punktuose − duomenys nuo metų pradžios didėjančia tvarka.
B37: 2. ¹ - asmenys, kurie buvo nuteisti už smurtą artimoje aplinkoje. Pagal Lietuvos Respublikos apsaugos nuo smurto artimoje aplinkoje įstatymą, artima aplinka - aplinka, kurią sudaro asmenys, siejami arba praeityje sieti santuokiniais, partnerystės, svainystės ar kitais artimais ryšiais, taip pat asmenys, kartu gyvenantys ir tvarkantys bendrą ūkį.
B38: 3. ² - asmenų, dalyvavusių programose, kurios konkrečiai skirtos smurtiniam elgesiui mažinti, skaičius.
B42: (pareigų pavadinimas) | N42: (vardas ir pavardė)

Sheet Sheet18
A4: DARBO SU SMURTAUTOJAIS ARTIMOJE APLINKOJE, ESANČIAIS PRIEŽIŪROJE, STATISTINĖ ATASKAITA
A7: 20 - - Nr. ___________
A9: 20 m. mėnesių duomenys
A11: Eil. Nr. | B11: Duomenų pavadinimas | C11: Asmenų skaičius | E11: Asmenys
E12: kuriems paskirta viešųjų darbų bausmė (BK 46 str.) | G12: kuriems paskirta laisvės apribojimo bausmė (BK 48 str.) | I12: kuriems paskirtos baudžiamojo poveikio priemonės (BK 69, 70, 72¹, 72² str.) | K12: kuriems skirtos auklėjamojo poveikio priemonės (BK 82 str.) | M12: kuriems bausmės vykdymas atidėtas (BK 75 str.) | O12: kuriems bausmės vykdymas atidėtas (BK 92 str.) | Q12: kurie lygtinai paleisti iš pataisos įstaigų (BVK 82 str.)
C19: iš viso | D19: moterų | E19: iš viso | F19: moterų | G19: iš viso | H19: moterų | I19: iš viso | J19: moterų | K19: iš viso | L19: moterų | M19: iš viso | N19: moterų | O19: iš viso | P19: moterų | Q19: iš viso | R19: moterų
A20: 1 | B20: 2 | C20: 3 | D20: 4 | E20: 5 | F20: 6 | G20: 7 | H20: 8 | I20: 9 | J20: 10 | K20: 11 | L20: 12 | M20: 13 | N20: 14 | O20: 15 | P20: 16 | Q20: 17 | R20: 18
A21: 1 | B21: Asmenų¹, įtrauktų į duomenų registrus, sausio 1 d. skaičius, iš jų | C21: =E21+G21+I21+K21+M21+O21+Q21 -> 0 | D21: =F21+H21+J21+L21+N21+P21+R21 -> 0
A22: 1.1 | B22: iki 18 metų | C22: =E22+G22+I22+K22+M22+O22+Q22 -> 0 | D22: =F22+H22+J22+L22+N22+P22+R22 -> 0
A23: 2 | B23: Asmenų, įtrauktų į duomenų registrus per ataskaitinį laikotarpį, skaičius, iš jų | C23: =E23+G23+I23+K23+M23+O23+Q23 -> 0 | D23: =F23+H23+J23+L23+N23+P23+R23 -> 0
A24: 2.1 | B24: iki 18 metų | C24: =E24+G24+I24+K24+M24+O24+Q24 -> 0 | D24: =F24+H24+J24+L24+N24+P24+R24 -> 0
A25: 3 | B25: Asmenų, kurie per ataskaitinį laikotarpį buvo įtraukti į duomenų registrus, skaičius (1+2), iš jų | C25: =E25+G25+I25+K25+M25+O25+Q25 -> 0 | D25: =F25+H25+J25+L25+N25+P25+R25 -> 0 | E25: =E21+E23 -> 0 | F25: =F21+F23 -> 0 | G25: =G21+G23 -> 0 | H25: =H21+H23 -> 0 | I25: =I21+I23 -> 0 | J25: =J21+J23 -> 0 | K25: =K21+K23 -> 0 | L25: =L21+L23 -> 0 | ... R25: =R21+R23 -> 0
A26: 3.1 | B26: iki 18 metų (1.1+2.1) | C26: =E26+G26+I26+K26+M26+O26+Q26 -> 0 | D26: =F26+H26+J26+L26+N26+P26+R26 -> 0 | E26: =E22+E24 -> 0 | F26: =F22+F24 -> 0 | G26: =G22+G24 -> 0 | H26: =H22+H24 -> 0 | I26: =I22+I24 -> 0 | J26: =J22+J24 -> 0 | K26: =K22+K24 -> 0 | L26: =L22+L24 -> 0 | ... R26: =R22+R24 -> 0
A27: 4 | B27: Asmenų, kurie per ataskaitinį laikotarpį buvo išregistruoti iš duomenų registrų, skaičius, iš jų | C27: =E27+G27+I27+K27+M27+O27+Q27 -> 0 | D27: =F27+H27+J27+L27+N27+P27+R27 -> 0
A28: 4.1 | B28: iki 18 metų | C28: =E28+G28+I28+K28+M28+O28+Q28 -> 0 | D28: =F28+H28+J28+L28+N28+P28+R28 -> 0
A29: 5 | B29: Ataskaitos dieną į duomenų registrus įtrauktų asmenų skaičius(3-4), iš jų | C29: =E29+G29+I29+K29+M29+O29+Q29 -> 0 | D29: =F29+H29+J29+L29+N29+P29+R29 -> 0 | E29: =E25-E27 -> 0 | F29: =F25-F27 -> 0 | G29: =G25-G27 -> 0 | H29: =H25-H27 -> 0 | I29: =I25-I27 -> 0 | J29: =J25-J27 -> 0 | K29: =K25-K27 -> 0 | L29: =L25-L27 -> 0 | ... R29: =R25-R27 -> 0
A30: 5.1 | B30: iki 18 metų (3.1-4.1) | C30: =E30+G30+I30+K30+M30+O30+Q30 -> 0 | D30: =F30+H30+J30+L30+N30+P30+R30 -> 0 | E30: =E26-E28 -> 0 | F30: =F26-F28 -> 0 | G30: =G26-G28 -> 0 | H30: =H26-H28 -> 0 | I30: =I26-I28 -> 0 | J30: =J26-J28 -> 0 | K30: =K26-K28 -> 0 | L30: =L26-L28 -> 0 | ... R30: =R26-R28 -> 0
A31: 6 | B31: Asmenų, dalyvavusių smurtinį elgesį keičiančioje programoje, skaičius, iš jų² | C31: =E31+G31+I31+K31+M31+O31+Q31 -> 0 | D31: =F31+H31+J31+L31+N31+P31+R31 -> 0
A32: 6.1 | B32: iki 18 metų | C32: =E32+G32+I32+K32+M32+O32+Q32 -> 0 | D32: =F32+H32+J32+L32+N32+P32+R32 -> 0
A33: 7 | B33: Asmenų, išklausiusių smurtinį elgesį keičiančią programą,skaičius, iš jų | C33: =E33+G33+I33+K33+M33+O33+Q33 -> 0 | D33: =F33+H33+J33+L33+N33+P33+R33 -> 0
A34: 7.1 | B34: iki 18 metų | C34: =E34+G34+I34+K34+M34+O34+Q34 -> 0 | D34: =F34+H34+J34+L34+N34+P34+R34 -> 0
A35: Pastabos ir paaiškinimai:
B36: 1. 5 punkte pateikiami ataskaitos dienos duomenys, kituose punktuose − duomenys nuo metų pradžios didėjančia tvarka.
B37: 2. ¹ - asmenys, kurie buvo nuteisti už smurtą artimoje aplinkoje. Pagal Lietuvos Respublikos apsaugos nuo smurto artimoje aplinkoje įstatymą, artima aplinka - aplinka, kurią sudaro asmenys, siejami arba praeityje sieti santuokiniais, partnerystės, svainystės ar kitais artimais ryšiais, taip pat asmenys, kartu gyvenantys ir tvarkantys bendrą ūkį.
B38: 3. ² - asmenų, dalyvavusių programose, kurios konkrečiai skirtos smurtiniam elgesiui mažinti, skaičius.
B42: (pareigų pavadinimas) | N42: (vardas ir pavardė)

Sheet Sheet19
A4: DARBO SU SMURTAUTOJAIS ARTIMOJE APLINKOJE, ESANČIAIS PRIEŽIŪROJE, STATISTINĖ ATASKAITA
A7: 20 - - Nr. ___________
A9: 20 m. mėnesių duomenys
A11: Eil. Nr. | B11: Duomenų pavadinimas | C11: Asmenų skaičius | E11: Asmenys
E12: kuriems paskirta viešųjų darbų bausmė (BK 46 str.) | G12: kuriems paskirta laisvės apribojimo bausmė (BK 48 str.) | I12: kuriems paskirtos baudžiamojo poveikio priemonės (BK 69, 70, 72¹, 72² str.) | K12: kuriems skirtos auklėjamojo poveikio priemonės (BK 82 str.) | M12: kuriems bausmės vykdymas atidėtas (BK 75 str.) | O12: kuriems bausmės vykdymas atidėtas (BK 92 str.) | Q12: kurie lygtinai paleisti iš pataisos įstaigų (BVK 82 str.)
C19: iš viso | D19: moterų | E19: iš viso | F19: moterų | G19: iš viso | H19: moterų | I19: iš viso | J19: moterų | K19: iš viso | L19: moterų | M19: iš viso | N19: moterų | O19: iš viso | P19: moterų | Q19: iš viso | R19: moterų
A20: 1 | B20: 2 | C20: 3 | D20: 4 | E20: 5 | F20: 6 | G20: 7 | H20: 8 | I20: 9 | J20: 10 | K20: 11 | L20: 12 | M20: 13 | N20: 14 | O20: 15 | P20: 16 | Q20: 17 | R20: 18
A21: 1 | B21: Asmenų¹, įtrauktų į duomenų registrus, sausio 1 d. skaičius, iš jų | C21: =E21+G21+I21+K21+M21+O21+Q21 -> 0 | D21: =F21+H21+J21+L21+N21+P21+R21 -> 0
A22: 1.1 | B22: iki 18 metų | C22: =E22+G22+I22+K22+M22+O22+Q22 -> 0 | D22: =F22+H22+J22+L22+N22+P22+R22 -> 0
A23: 2 | B23: Asmenų, įtrauktų į duomenų registrus per ataskaitinį laikotarpį, skaičius, iš jų | C23: =E23+G23+I23+K23+M23+O23+Q23 -> 0 | D23: =F23+H23+J23+L23+N23+P23+R23 -> 0
A24: 2.1 | B24: iki 18 metų | C24: =E24+G24+I24+K24+M24+O24+Q24 -> 0 | D24: =F24+H24+J24+L24+N24+P24+R24 -> 0
A25: 3 | B25: Asmenų, kurie per ataskaitinį laikotarpį buvo įtraukti į duomenų registrus, skaičius (1+2), iš jų | C25: =E25+G25+I25+K25+M25+O25+Q25 -> 0 | D25: =F25+H25+J25+L25+N25+P25+R25 -> 0 | E25: =E21+E23 -> 0 | F25: =F21+F23 -> 0 | G25: =G21+G23 -> 0 | H25: =H21+H23 -> 0 | I25: =I21+I23 -> 0 | J25: =J21+J23 -> 0 | K25: =K21+K23 -> 0 | L25: =L21+L23 -> 0 | ... R25: =R21+R23 -> 0
A26: 3.1 | B26: iki 18 metų (1.1+2.1) | C26: =E26+G26+I26+K26+M26+O26+Q26 -> 0 | D26: =F26+H26+J26+L26+N26+P26+R26 -> 0 | E26: =E22+E24 -> 0 | F26: =F22+F24 -> 0 | G26: =G22+G24 -> 0 | H26: =H22+H24 -> 0 | I26: =I22+I24 -> 0 | J26: =J22+J24 -> 0 | K26: =K22+K24 -> 0 | L26: =L22+L24 -> 0 | ... R26: =R22+R24 -> 0
A27: 4 | B27: Asmenų, kurie per ataskaitinį laikotarpį buvo išregistruoti iš duomenų registrų, skaičius, iš jų | C27: =E27+G27+I27+K27+M27+O27+Q27 -> 0 | D27: =F27+H27+J27+L27+N27+P27+R27 -> 0
A28: 4.1 | B28: iki 18 metų | C28: =E28+G28+I28+K28+M28+O28+Q28 -> 0 | D28: =F28+H28+J28+L28+N28+P28+R28 -> 0
A29: 5 | B29: Ataskaitos dieną į duomenų registrus įtrauktų asmenų skaičius(3-4), iš jų | C29: =E29+G29+I29+K29+M29+O29+Q29 -> 0 | D29: =F29+H29+J29+L29+N29+P29+R29 -> 0 | E29: =E25-E27 -> 0 | F29: =F25-F27 -> 0 | G29: =G25-G27 -> 0 | H29: =H25-H27 -> 0 | I29: =I25-I27 -> 0 | J29: =J25-J27 -> 0 | K29: =K25-K27 -> 0 | L29: =L25-L27 -> 0 | ... R29: =R25-R27 -> 0
A30: 5.1 | B30: iki 18 metų (3.1-4.1) | C30: =E30+G30+I30+K30+M30+O30+Q30 -> 0 | D30: =F30+H30+J30+L30+N30+P30+R30 -> 0 | E30: =E26-E28 -> 0 | F30: =F26-F28 -> 0 | G30: =G26-G28 -> 0 | H30: =H26-H28 -> 0 | I30: =I26-I28 -> 0 | J30: =J26-J28 -> 0 | K30: =K26-K28 -> 0 | L30: =L26-L28 -> 0 | ... R30: =R26-R28 -> 0
A31: 6 | B31: Asmenų, dalyvavusių smurtinį elgesį keičiančioje programoje, skaičius, iš jų² | C31: =E31+G31+I31+K31+M31+O31+Q31 -> 0 | D31: =F31+H31+J31+L31+N31+P31+R31 -> 0
A32: 6.1 | B32: iki 18 metų | C32: =E32+G32+I32+K32+M32+O32+Q32 -> 0 | D32: =F32+H32+J32+L32+N32+P32+R32 -> 0
A33: 7 | B33: Asmenų, išklausiusių smurtinį elgesį keičiančią programą,skaičius, iš jų | C33: =E33+G33+I33+K33+M33+O33+Q33 -> 0 | D33: =F33+H33+J33+L33+N33+P33+R33 -> 0
A34: 7.1 | B34: iki 18 metų | C34: =E34+G34+I34+K34+M34+O34+Q34 -> 0 | D34: =F34+H34+J34+L34+N34+P34+R34 -> 0
A35: Pastabos ir paaiškinimai:
B36: 1. 5 punkte pateikiami ataskaitos dienos duomenys, kituose punktuose − duomenys nuo metų pradžios didėjančia tvarka.
B37: 2. ¹ - asmenys, kurie buvo nuteisti už smurtą artimoje aplinkoje. Pagal Lietuvos Respublikos apsaugos nuo smurto artimoje aplinkoje įstatymą, artima aplinka - aplinka, kurią sudaro asmenys, siejami arba praeityje sieti santuokiniais, partnerystės, svainystės ar kitais artimais ryšiais, taip pat asmenys, kartu gyvenantys ir tvarkantys bendrą ūkį.
B38: 3. ² - asmenų, dalyvavusių programose, kurios konkrečiai skirtos smurtiniam elgesiui mažinti, skaičius.
B42: (pareigų pavadinimas) | N42: (vardas ir pavardė)

Sheet Sheet20
A4: DARBO SU SMURTAUTOJAIS ARTIMOJE APLINKOJE, ESANČIAIS PRIEŽIŪROJE, STATISTINĖ ATASKAITA
A7: 20 - - Nr. ___________
A9: 20 m. mėnesių duomenys
A11: Eil. Nr. | B11: Duomenų pavadinimas | C11: Asmenų skaičius | E11: Asmenys
E12: kuriems paskirta viešųjų darbų bausmė (BK 46 str.) | G12: kuriems paskirta laisvės apribojimo bausmė (BK 48 str.) | I12: kuriems paskirtos baudžiamojo poveikio priemonės (BK 69, 70, 72¹, 72² str.) | K12: kuriems skirtos auklėjamojo poveikio priemonės (BK 82 str.) | M12: kuriems bausmės vykdymas atidėtas (BK 75 str.) | O12: kuriems bausmės vykdymas atidėtas (BK 92 str.) | Q12: kurie lygtinai paleisti iš pataisos įstaigų (BVK 82 str.)
C19: iš viso | D19: moterų | E19: iš viso | F19: moterų | G19: iš viso | H19: moterų | I19: iš viso | J19: moterų | K19: iš viso | L19: moterų | M19: iš viso | N19: moterų | O19: iš viso | P19: moterų | Q19: iš viso | R19: moterų
A20: 1 | B20: 2 | C20: 3 | D20: 4 | E20: 5 | F20: 6 | G20: 7 | H20: 8 | I20: 9 | J20: 10 | K20: 11 | L20: 12 | M20: 13 | N20: 14 | O20: 15 | P20: 16 | Q20: 17 | R20: 18
A21: 1 | B21: Asmenų¹, įtrauktų į duomenų registrus, sausio 1 d. skaičius, iš jų | C21: =E21+G21+I21+K21+M21+O21+Q21 -> 0 | D21: =F21+H21+J21+L21+N21+P21+R21 -> 0
A22: 1.1 | B22: iki 18 metų | C22: =E22+G22+I22+K22+M22+O22+Q22 -> 0 | D22: =F22+H22+J22+L22+N22+P22+R22 -> 0
A23: 2 | B23: Asmenų, įtrauktų į duomenų registrus per ataskaitinį laikotarpį, skaičius, iš jų | C23: =E23+G23+I23+K23+M23+O23+Q23 -> 0 | D23: =F23+H23+J23+L23+N23+P23+R23 -> 0
A24: 2.1 | B24: iki 18 metų | C24: =E24+G24+I24+K24+M24+O24+Q24 -> 0 | D24: =F24+H24+J24+L24+N24+P24+R24 -> 0
A25: 3 | B25: Asmenų, kurie per ataskaitinį laikotarpį buvo įtraukti į duomenų registrus, skaičius (1+2), iš jų | C25: =E25+G25+I25+K25+M25+O25+Q25 -> 0 | D25: =F25+H25+J25+L25+N25+P25+R25 -> 0 | E25: =E21+E23 -> 0 | F25: =F21+F23 -> 0 | G25: =G21+G23 -> 0 | H25: =H21+H23 -> 0 | I25: =I21+I23 -> 0 | J25: =J21+J23 -> 0 | K25: =K21+K23 -> 0 | L25: =L21+L23 -> 0 | ... R25: =R21+R23 -> 0
A26: 3.1 | B26: iki 18 metų (1.1+2.1) | C26: =E26+G26+I26+K26+M26+O26+Q26 -> 0 | D26: =F26+H26+J26+L26+N26+P26+R26 -> 0 | E26: =E22+E24 -> 0 | F26: =F22+F24 -> 0 | G26: =G22+G24 -> 0 | H26: =H22+H24 -> 0 | I26: =I22+I24 -> 0 | J26: =J22+J24 -> 0 | K26: =K22+K24 -> 0 | L26: =L22+L24 -> 0 | ... R26: =R22+R24 -> 0
A27: 4 | B27: Asmenų, kurie per ataskaitinį laikotarpį buvo išregistruoti iš duomenų registrų, skaičius, iš jų | C27: =E27+G27+I27+K27+M27+O27+Q27 -> 0 | D27: =F27+H27+J27+L27+N27+P27+R27 -> 0
A28: 4.1 | B28: iki 18 metų | C28: =E28+G28+I28+K28+M28+O28+Q28 -> 0 | D28: =F28+H28+J28+L28+N28+P28+R28 -> 0
A29: 5 | B29: Ataskaitos dieną į duomenų registrus įtrauktų asmenų skaičius(3-4), iš jų | C29: =E29+G29+I29+K29+M29+O29+Q29 -> 0 | D29: =F29+H29+J29+L29+N29+P29+R29 -> 0 | E29: =E25-E27 -> 0 | F29: =F25-F27 -> 0 | G29: =G25-G27 -> 0 | H29: =H25-H27 -> 0 | I29: =I25-I27 -> 0 | J29: =J25-J27 -> 0 | K29: =K25-K27 -> 0 | L29: =L25-L27 -> 0 | ... R29: =R25-R27 -> 0
A30: 5.1 | B30: iki 18 metų (3.1-4.1) | C30: =E30+G30+I30+K30+M30+O30+Q30 -> 0 | D30: =F30+H30+J30+L30+N30+P30+R30 -> 0 | E30: =E26-E28 -> 0 | F30: =F26-F28 -> 0 | G30: =G26-G28 -> 0 | H30: =H26-H28 -> 0 | I30: =I26-I28 -> 0 | J30: =J26-J28 -> 0 | K30: =K26-K28 -> 0 | L30: =L26-L28 -> 0 | ... R30: =R26-R28 -> 0
A31: 6 | B31: Asmenų, dalyvavusių smurtinį elgesį keičiančioje programoje, skaičius, iš jų² | C31: =E31+G31+I31+K31+M31+O31+Q31 -> 0 | D31: =F31+H31+J31+L31+N31+P31+R31 -> 0
A32: 6.1 | B32: iki 18 metų | C32: =E32+G32+I32+K32+M32+O32+Q32 -> 0 | D32: =F32+H32+J32+L32+N32+P32+R32 -> 0
A33: 7 | B33: Asmenų, išklausiusių smurtinį elgesį keičiančią programą,skaičius, iš jų | C33: =E33+G33+I33+K33+M33+O33+Q33 -> 0 | D33: =F33+H33+J33+L33+N33+P33+R33 -> 0
A34: 7.1 | B34: iki 18 metų | C34: =E34+G34+I34+K34+M34+O34+Q34 -> 0 | D34: =F34+H34+J34+L34+N34+P34+R34 -> 0
A35: Pastabos ir paaiškinimai:
B36: 1. 5 punkte pateikiami ataskaitos dienos duomenys, kituose punktuose − duomenys nuo metų pradžios didėjančia tvarka.
B37: 2. ¹ - asmenys, kurie buvo nuteisti už smurtą artimoje aplinkoje. Pagal Lietuvos Respublikos apsaugos nuo smurto artimoje aplinkoje įstatymą, artima aplinka - aplinka, kurią sudaro asmenys, siejami arba praeityje sieti santuokiniais, partnerystės, svainystės ar kitais artimais ryšiais, taip pat asmenys, kartu gyvenantys ir tvarkantys bendrą ūkį.
B38: 3. ² - asmenų, dalyvavusių programose, kurios konkrečiai skirtos smurtiniam elgesiui mažinti, skaičius.
B42: (pareigų pavadinimas) | N42: (vardas ir pavardė)
